BEGIN:VCALENDAR
VERSION:2.0
PRODID:-//Uptown Nightclub - ECPv6.15.20//NONSGML v1.0//EN
CALSCALE:GREGORIAN
METHOD:PUBLISH
X-ORIGINAL-URL:https://uptownnightclub.com
X-WR-CALDESC:Events for Uptown Nightclub
REFRESH-INTERVAL;VALUE=DURATION:PT1H
X-Robots-Tag:noindex
X-PUBLISHED-TTL:PT1H
BEGIN:VTIMEZONE
TZID:America/Los_Angeles
BEGIN:DAYLIGHT
TZOFFSETFROM:-0800
TZOFFSETTO:-0700
TZNAME:PDT
DTSTART:20180311T100000
END:DAYLIGHT
BEGIN:STANDARD
TZOFFSETFROM:-0700
TZOFFSETTO:-0800
TZNAME:PST
DTSTART:20181104T090000
END:STANDARD
BEGIN:DAYLIGHT
TZOFFSETFROM:-0800
TZOFFSETTO:-0700
TZNAME:PDT
DTSTART:20190310T100000
END:DAYLIGHT
BEGIN:STANDARD
TZOFFSETFROM:-0700
TZOFFSETTO:-0800
TZNAME:PST
DTSTART:20191103T090000
END:STANDARD
BEGIN:DAYLIGHT
TZOFFSETFROM:-0800
TZOFFSETTO:-0700
TZNAME:PDT
DTSTART:20200308T100000
END:DAYLIGHT
BEGIN:STANDARD
TZOFFSETFROM:-0700
TZOFFSETTO:-0800
TZNAME:PST
DTSTART:20201101T090000
END:STANDARD
BEGIN:DAYLIGHT
TZOFFSETFROM:-0800
TZOFFSETTO:-0700
TZNAME:PDT
DTSTART:20210314T100000
END:DAYLIGHT
BEGIN:STANDARD
TZOFFSETFROM:-0700
TZOFFSETTO:-0800
TZNAME:PST
DTSTART:20211107T090000
END:STANDARD
END:VTIMEZONE
BEGIN:VEVENT
DTSTART;TZID=America/Los_Angeles:20200520T210000
DTEND;TZID=America/Los_Angeles:20200521T233000
DTSTAMP:20260419T144409
CREATED:20170921T204049Z
LAST-MODIFIED:20200503T210006Z
UID:2505-1590008400-1590103800@uptownnightclub.com
SUMMARY:CANCELED Karaoke Night at The Uptown
DESCRIPTION:Karaoke Night at The Uptown! \nEvery Wednesday at 9PM\, right after Moonlight Comedy \nNo Cover | 21+ | Wheelchair Accessible \nBring your friends and come make new ones \n 
URL:https://uptownnightclub.com/event/karaoke-night/
LOCATION:The Uptown Nightclub\, 1928 Telegraph Ave \, Oakland\, CA\, 94612\, United States
CATEGORIES:Free events,Karaoke
ATTACH;FMTTYPE=image/jpeg:https://uptownnightclub.com/wp-content/uploads/2017/09/Poly-Karaoke-Uptown.jpg
END:VEVENT
BEGIN:VEVENT
DTSTART;TZID=America/Los_Angeles:20200513T210000
DTEND;TZID=America/Los_Angeles:20200514T003000
DTSTAMP:20260419T144409
CREATED:20171010T162735Z
LAST-MODIFIED:20200503T210228Z
UID:2572-1589403600-1589416200@uptownnightclub.com
SUMMARY:CANCELED Karaoke Night at The Uptown
DESCRIPTION:Karaoke Night at The Uptown! \nEvery Wednesday at 9:00PM\, right after Moonlight Comedy \nNo Cover | 21+ | Wheelchair Accessible \n 
URL:https://uptownnightclub.com/event/karaoke-night-uptown-2/
LOCATION:The Uptown Nightclub\, 1928 Telegraph Ave \, Oakland\, CA\, 94612\, United States
CATEGORIES:Free events,Karaoke
ATTACH;FMTTYPE=image/jpeg:https://uptownnightclub.com/wp-content/uploads/2017/09/Poly-Karaoke-Uptown.jpg
END:VEVENT
BEGIN:VEVENT
DTSTART;TZID=America/Los_Angeles:20200506T210000
DTEND;TZID=America/Los_Angeles:20200506T233000
DTSTAMP:20260419T144409
CREATED:20170929T205520Z
LAST-MODIFIED:20200503T205911Z
UID:2535-1588798800-1588807800@uptownnightclub.com
SUMMARY:CANCELED Karaoke Night at The Uptown
DESCRIPTION:Karaoke Night at The Uptown \nEvery Wednesday at 9PM\, immediately following Moonlight Comedy. Come sing your heart out. \nNo Cover | 21+ | Wheelchair Accessible \nBring your friends and come make new ones
URL:https://uptownnightclub.com/event/karaoke-night-uptown/
LOCATION:The Uptown Nightclub\, 1928 Telegraph Ave \, Oakland\, CA\, 94612\, United States
CATEGORIES:80s music,Free events,Goth,Karaoke,Punk
ATTACH;FMTTYPE=image/jpeg:https://uptownnightclub.com/wp-content/uploads/2017/09/Poly-Karaoke-Uptown.jpg
END:VEVENT
BEGIN:VEVENT
DTSTART;TZID=America/Los_Angeles:20191001T210000
DTEND;TZID=America/Los_Angeles:20191001T233000
DTSTAMP:20260419T144409
CREATED:20190929T171413Z
LAST-MODIFIED:20190929T171413Z
UID:4946-1569963600-1569972600@uptownnightclub.com
SUMMARY:Karaoke Night - Tuesday Edition
DESCRIPTION:This week only\, Karaoke Night at The Uptown is moving from Wednesday to Tuesday. \n  \nPlease come sing your pretty little hearts out. We’ll love you forever. \n  \n 
URL:https://uptownnightclub.com/event/karaoke-night-tuesday-edition/
LOCATION:The Uptown Nightclub\, 1928 Telegraph Ave \, Oakland\, CA\, 94612\, United States
CATEGORIES:Karaoke
ATTACH;FMTTYPE=image/jpeg:https://uptownnightclub.com/wp-content/uploads/2019/09/Unknown.jpeg
END:VEVENT
END:VCALENDAR