BEGIN:VCALENDAR
VERSION:2.0
PRODID:-//Uptown Nightclub - ECPv6.15.20//NONSGML v1.0//EN
CALSCALE:GREGORIAN
METHOD:PUBLISH
X-WR-CALNAME:Uptown Nightclub
X-ORIGINAL-URL:https://uptownnightclub.com
X-WR-CALDESC:Events for Uptown Nightclub
REFRESH-INTERVAL;VALUE=DURATION:PT1H
X-Robots-Tag:noindex
X-PUBLISHED-TTL:PT1H
BEGIN:VTIMEZONE
TZID:America/Los_Angeles
BEGIN:DAYLIGHT
TZOFFSETFROM:-0800
TZOFFSETTO:-0700
TZNAME:PDT
DTSTART:20190310T100000
END:DAYLIGHT
BEGIN:STANDARD
TZOFFSETFROM:-0700
TZOFFSETTO:-0800
TZNAME:PST
DTSTART:20191103T090000
END:STANDARD
BEGIN:DAYLIGHT
TZOFFSETFROM:-0800
TZOFFSETTO:-0700
TZNAME:PDT
DTSTART:20200308T100000
END:DAYLIGHT
BEGIN:STANDARD
TZOFFSETFROM:-0700
TZOFFSETTO:-0800
TZNAME:PST
DTSTART:20201101T090000
END:STANDARD
BEGIN:DAYLIGHT
TZOFFSETFROM:-0800
TZOFFSETTO:-0700
TZNAME:PDT
DTSTART:20210314T100000
END:DAYLIGHT
BEGIN:STANDARD
TZOFFSETFROM:-0700
TZOFFSETTO:-0800
TZNAME:PST
DTSTART:20211107T090000
END:STANDARD
END:VTIMEZONE
BEGIN:VEVENT
DTSTART;TZID=America/Los_Angeles:20200229T190000
DTEND;TZID=America/Los_Angeles:20200229T233000
DTSTAMP:20260419T130414
CREATED:20200218T084713Z
LAST-MODIFIED:20200218T084839Z
UID:5316-1583002800-1583019000@uptownnightclub.com
SUMMARY:Latin Dance Party - A Benefit for Dancing Saved My Life
DESCRIPTION:((( Tickets))) \nDancing Saved My Life is a grassroots community started by Andreina Febres\, a Bay Area Zumba instructor who lost her mother to cancer\, and her student\, Joy Glasier\, who was going through cancer treatment in 2014. \nAndreina wanted to find a way to support the cancer community. Simultaneously\, Joy was taking a stress relief class specifically tailored to cancer care with Maura Singer. These two practices were instrumental to Joy’s healing. \nIn Joy’s words\, “If I was able to dance I knew I was doing OK\, and through stress relief practices and meditation I learned how to lessen the fear and anxiety.” \nBased on Maura and Andreina’s particular expertise\, they teamed up to launch a sustainable program that benefits the cancer community. \ndancingsavedmylife.org\ndsmllatindanceparty.bpt.me/ \n$30\n100% proceeds Dancing Saved My Life
URL:https://uptownnightclub.com/event/latin-dance-party-a-benefit-for-dancing-saved-my-life/
LOCATION:The Uptown Nightclub\, 1928 Telegraph Ave \, Oakland\, CA\, 94612\, United States
CATEGORIES:Benefit,Dance Party,Latin,World Music
ATTACH;FMTTYPE=image/jpeg:https://uptownnightclub.com/wp-content/uploads/2020/02/85001153_3829305317094416_3779428215248912384_o.jpg
END:VEVENT
END:VCALENDAR