BEGIN:VCALENDAR
VERSION:2.0
PRODID:-//Uptown Nightclub - ECPv6.15.20//NONSGML v1.0//EN
CALSCALE:GREGORIAN
METHOD:PUBLISH
X-WR-CALNAME:Uptown Nightclub
X-ORIGINAL-URL:https://uptownnightclub.com
X-WR-CALDESC:Events for Uptown Nightclub
REFRESH-INTERVAL;VALUE=DURATION:PT1H
X-Robots-Tag:noindex
X-PUBLISHED-TTL:PT1H
BEGIN:VTIMEZONE
TZID:America/Los_Angeles
BEGIN:DAYLIGHT
TZOFFSETFROM:-0800
TZOFFSETTO:-0700
TZNAME:PDT
DTSTART:20160313T100000
END:DAYLIGHT
BEGIN:STANDARD
TZOFFSETFROM:-0700
TZOFFSETTO:-0800
TZNAME:PST
DTSTART:20161106T090000
END:STANDARD
BEGIN:DAYLIGHT
TZOFFSETFROM:-0800
TZOFFSETTO:-0700
TZNAME:PDT
DTSTART:20170312T100000
END:DAYLIGHT
BEGIN:STANDARD
TZOFFSETFROM:-0700
TZOFFSETTO:-0800
TZNAME:PST
DTSTART:20171105T090000
END:STANDARD
BEGIN:DAYLIGHT
TZOFFSETFROM:-0800
TZOFFSETTO:-0700
TZNAME:PDT
DTSTART:20180311T100000
END:DAYLIGHT
BEGIN:STANDARD
TZOFFSETFROM:-0700
TZOFFSETTO:-0800
TZNAME:PST
DTSTART:20181104T090000
END:STANDARD
BEGIN:DAYLIGHT
TZOFFSETFROM:-0800
TZOFFSETTO:-0700
TZNAME:PDT
DTSTART:20190310T100000
END:DAYLIGHT
BEGIN:STANDARD
TZOFFSETFROM:-0700
TZOFFSETTO:-0800
TZNAME:PST
DTSTART:20191103T090000
END:STANDARD
BEGIN:DAYLIGHT
TZOFFSETFROM:-0800
TZOFFSETTO:-0700
TZNAME:PDT
DTSTART:20200308T100000
END:DAYLIGHT
BEGIN:STANDARD
TZOFFSETFROM:-0700
TZOFFSETTO:-0800
TZNAME:PST
DTSTART:20201101T090000
END:STANDARD
END:VTIMEZONE
BEGIN:VEVENT
DTSTART;TZID=America/Los_Angeles:20190201T210000
DTEND;TZID=America/Los_Angeles:20190201T210000
DTSTAMP:20260419T111424
CREATED:20190117T215251Z
LAST-MODIFIED:20190120T234633Z
UID:4090-1549054800-1549054800@uptownnightclub.com
SUMMARY:Free First Friday Showcase - Tyler Jakes\, Shark Punch\, Catchlight\, Errors
DESCRIPTION:Friday\, February 1 \nTyler Jakes \nShark Punch \nCatchlight \nErrors \nFor the last 11 years\, The Uptown has brought you a free showcase on the First Friday of every month. We highlight bands and artists we feel deserve more of your attention. \nThis month features independent singer-songwriter Tyler Jakes\, East Bay ska band Shark Punch\, Bay Area prog-pop unit Catchlight\, and San Francisco alt-pop outfit Errors. \nThe Uptown opens doors for happy hour at 5pm.\nFirst band starts at 9pm. \n21+ | wheelchair accessible
URL:https://uptownnightclub.com/event/free-first-friday-showcase-shark-punch-suicide-queen-catchlight/
LOCATION:The Uptown Nightclub\, 1928 Telegraph Ave \, Oakland\, CA\, 94612\, United States
CATEGORIES:First Friday,Free events,Live Performance,Ska
ATTACH;FMTTYPE=image/png:https://uptownnightclub.com/wp-content/uploads/2019/01/Screen-Shot-2019-01-20-at-3.35.13-PM.png
END:VEVENT
BEGIN:VEVENT
DTSTART;TZID=America/Los_Angeles:20190104T203000
DTEND;TZID=America/Los_Angeles:20190104T233000
DTSTAMP:20260419T111424
CREATED:20181229T011753Z
LAST-MODIFIED:20190105T030713Z
UID:3991-1546633800-1546644600@uptownnightclub.com
SUMMARY:First Fridays are Free - Punk Ska Bands
DESCRIPTION:Every First Friday The Uptown presents a showcase of bands we like. \nThis month we are excited to bring you: \nMillards\nLucky Eejits\nElderly Abuse \n  \nShark Punch dropped out. If you were looking for them playing tonight\, sorry. \n  \nThe Uptown opens for happy hour at 5pm. First band will go on at 9:30 now. \nNo cover. \n 
URL:https://uptownnightclub.com/event/first-fridays-free-punk-ska-bands/
LOCATION:The Uptown Nightclub\, 1928 Telegraph Ave \, Oakland\, CA\, 94612\, United States
CATEGORIES:First Friday,Free events,Post-Punk,Punk,Ska
ATTACH;FMTTYPE=image/png:https://uptownnightclub.com/wp-content/uploads/2018/12/Screen-Shot-2018-12-28-at-5.17.02-PM.png
END:VEVENT
BEGIN:VEVENT
DTSTART;TZID=America/Los_Angeles:20180626T200000
DTEND;TZID=America/Los_Angeles:20180627T013000
DTSTAMP:20260419T111424
CREATED:20180506T194956Z
LAST-MODIFIED:20180608T071039Z
UID:3241-1530043200-1530063000@uptownnightclub.com
SUMMARY:Kingston Rudieska\, Coburaya\, and The TownGhost
DESCRIPTION:Tuesday\, June 26\nDoors 8PM | Show 8:30\n$10\n\nKingston Rudieska – Seoul’s #1 Ska Band\n\n\nCoburaya – Oakland’s Japanese Punk Rock Cover band\n\n\n+ The Townghost\n\n\nAlthough South Korea is about as far from Jamaica as a country could be\, that hasn’t prevented authentic Jamaican music\, namely ska and reggae\, from reaching her shores. Korea’s first traditional ska band\, Kingston Rudieska\, has been paying respect to the roots since they began in 2004. The nine- piece band blends bluebeat ska\, jazz\, reggae\, dub\, and nyahbinghi chanting into a final product that is uniquely Korean; something the band has dubbed “Feast Ska.” Their shows mix foot-stomping instrumentals – fronted by a four-piece horn section – with warm\, soulful vocal features sung by “Sugar” Seok Yul Lee. Their performances are punctuated with a jammy\, improv vibe as many of the members are trained jazz musicians. The music pays enormous respect to\, ska pioneers\, The Skatalites. It’s not uncommon\, during a set\, to hear an impromptu Skatalites cover kick off an improvisational jam to the delight of the crowd.\nOver the past decade\, they’ve come a long way from playing dingy basement clubs to appearing on some of the nation’s biggest stages\, fostering a love of Jamaican rhythms to a nation still newly discovering the genre. They’ve appeared at nearly all of Korea’s major music festivals\, including Jisan Valley Rock Festival\, Incheon Pentaport Rock Festival\, Busan Rock Festival\, Seoul Jazz Festival\, Rainbow Island Music Festival\, and Grand Mint Festival. Additionally\, Kingston Rudieska has appeared on numerous televised music programs in Korea. \n21+ / wheelchair accessible
URL:https://uptownnightclub.com/event/kingston-rudieska/
LOCATION:The Uptown Nightclub\, 1928 Telegraph Ave \, Oakland\, CA\, 94612\, United States
CATEGORIES:Concerts,Live Performance,Ska
ATTACH;FMTTYPE=image/png:https://uptownnightclub.com/wp-content/uploads/2018/05/Screen-Shot-2018-06-07-at-11.29.55-PM.png
END:VEVENT
BEGIN:VEVENT
DTSTART;TZID=America/Los_Angeles:20180327T200000
DTEND;TZID=America/Los_Angeles:20180327T230000
DTSTAMP:20260419T111424
CREATED:20180226T023740Z
LAST-MODIFIED:20180322T162057Z
UID:2996-1522180800-1522191600@uptownnightclub.com
SUMMARY:MKC\, The Rudicals\, Shark Punch
DESCRIPTION:CHAINSKA BRASSIKA had visa issues and had to cancel but the ska show must go on! \nTuesday\, March 26 \nMKC \nTHE RUDICALS \nSHARK PUNCH \nDoors 8pm | Show 9pm \n$8 Advance | $10 Doors \n21+ with valid ID \nFacebook RSVP
URL:https://uptownnightclub.com/event/chainska-brassika-rudicals/
LOCATION:The Uptown Nightclub\, 1928 Telegraph Ave \, Oakland\, CA\, 94612\, United States
CATEGORIES:Ska
ATTACH;FMTTYPE=image/png:https://uptownnightclub.com/wp-content/uploads/2018/02/Screen-Shot-2018-03-21-at-12.37.04-PM.png
END:VEVENT
BEGIN:VEVENT
DTSTART;TZID=America/Los_Angeles:20171019T200000
DTEND;TZID=America/Los_Angeles:20171020T013000
DTSTAMP:20260419T111424
CREATED:20171004T172540Z
LAST-MODIFIED:20171004T174450Z
UID:2541-1508443200-1508463000@uptownnightclub.com
SUMMARY:Ska & Reggae Showcase
DESCRIPTION:Thursday\, October 19 \nDoors 8PM | Show 9PM \nJon Gonzo Presents \nSKA & REGGAE SHOWCASE at THE UPTOWN NIGHTCLUB \nCome join us for a night filled with some sweet ska and reggae music down at The Uptown nightclub in Oakland\,CA! Tickets will be $8 in advance and $12 at the door! Don’t miss out on this killer lineup! \nTHE RUDABANGAS\nFacebook\n Bandcamp \nTHE MILLARDS\nFacebook\n Bandcamp \nSHARK PUNCH\nFacebook\n Bandcamp \nTHE SKUNKADELICS\nFacebook\n Bandcamp \n21+ | Wheelchair Accessible
URL:https://uptownnightclub.com/event/ska-reggae-showcase/
LOCATION:The Uptown Nightclub\, 1928 Telegraph Ave \, Oakland\, CA\, 94612\, United States
CATEGORIES:Live Performance,Ska
ATTACH;FMTTYPE=image/png:https://uptownnightclub.com/wp-content/uploads/2017/10/Screen-Shot-2017-10-04-at-9.52.16-AM.png
END:VEVENT
BEGIN:VEVENT
DTSTART;TZID=America/Los_Angeles:20170803T200000
DTEND;TZID=America/Los_Angeles:20170804T000000
DTSTAMP:20260419T111424
CREATED:20170610T173003Z
LAST-MODIFIED:20170610T173003Z
UID:2049-1501790400-1501804800@uptownnightclub.com
SUMMARY:EAST BAY SKA Party!
DESCRIPTION:$8 advance and at the door \nCome and celebrate Thirsty Thursday with some amazing ska acts based out of the greater SF Bay Area! Doors at 8pm so make sure you mark calendar\, because you won’t want to miss this East Bay Ska Party!!!  \n~The Millards~ \nhttps://www.facebook.com/themillards/ \n~No Flow~ \nhttps://www.facebook.com/NoFlowMusicCa/ \n\n~The Skunkadelics~\nhttps://www.facebook.com/TheSkunkadelics/ \n~Day Labor~\nhttps://www.facebook.com/DayLabor/ \nHope to see all you Rude Boys and Rude Girls out at this one!! 21+ and wheelchair accessible.
URL:https://uptownnightclub.com/event/east-bay-ska-party/
LOCATION:The Uptown Nightclub\, 1928 Telegraph Ave \, Oakland\, CA\, 94612\, United States
CATEGORIES:Concerts,Dance Party,Live Performance,Party,Ska
ATTACH;FMTTYPE=image/jpeg:https://uptownnightclub.com/wp-content/uploads/2017/06/https-cdn.evbuc_.com-images-32231096-161195483713-1-original.jpg
END:VEVENT
END:VCALENDAR