BEGIN:VCALENDAR
VERSION:2.0
PRODID:-//Uptown Nightclub - ECPv6.15.20//NONSGML v1.0//EN
CALSCALE:GREGORIAN
METHOD:PUBLISH
X-ORIGINAL-URL:https://uptownnightclub.com
X-WR-CALDESC:Events for Uptown Nightclub
REFRESH-INTERVAL;VALUE=DURATION:PT1H
X-Robots-Tag:noindex
X-PUBLISHED-TTL:PT1H
BEGIN:VTIMEZONE
TZID:America/Los_Angeles
BEGIN:DAYLIGHT
TZOFFSETFROM:-0800
TZOFFSETTO:-0700
TZNAME:PDT
DTSTART:20190310T100000
END:DAYLIGHT
BEGIN:STANDARD
TZOFFSETFROM:-0700
TZOFFSETTO:-0800
TZNAME:PST
DTSTART:20191103T090000
END:STANDARD
BEGIN:DAYLIGHT
TZOFFSETFROM:-0800
TZOFFSETTO:-0700
TZNAME:PDT
DTSTART:20200308T100000
END:DAYLIGHT
BEGIN:STANDARD
TZOFFSETFROM:-0700
TZOFFSETTO:-0800
TZNAME:PST
DTSTART:20201101T090000
END:STANDARD
BEGIN:DAYLIGHT
TZOFFSETFROM:-0800
TZOFFSETTO:-0700
TZNAME:PDT
DTSTART:20210314T100000
END:DAYLIGHT
BEGIN:STANDARD
TZOFFSETFROM:-0700
TZOFFSETTO:-0800
TZNAME:PST
DTSTART:20211107T090000
END:STANDARD
BEGIN:DAYLIGHT
TZOFFSETFROM:-0800
TZOFFSETTO:-0700
TZNAME:PDT
DTSTART:20220313T100000
END:DAYLIGHT
BEGIN:STANDARD
TZOFFSETFROM:-0700
TZOFFSETTO:-0800
TZNAME:PST
DTSTART:20221106T090000
END:STANDARD
END:VTIMEZONE
BEGIN:VEVENT
DTSTART;VALUE=DATE:20200315
DTEND;VALUE=DATE:20200903
DTSTAMP:20260419T195915
CREATED:20200316T004750Z
LAST-MODIFIED:20200905T073452Z
UID:5415-1584244800-1599019199@uptownnightclub.com
SUMMARY:The Uptown is temporarily closed due to the COVID-19 crisis
DESCRIPTION:On March 15\, California Governor Gavin Newsom requested all California bars\, music venues\, and nightclubs close immediately and indefinitely to help curb the rampant spread of COVID-19. California is taking these dramatic steps to slow the rate of infection and reduce the number of deaths by giving doctors and hospitals a chance to treat the most serious patients without becoming overwhelmed by a tsunami of patients at once. Like you\, we are saddened by the events surrounding us at the moment\, but this apparent setback will help benefit the safety and health of our community at large. Thank you for your continued patience and support. We look forward to reopening when the time is right. Until then please shelter at home\, practice social distancing\, and wash those hands! \nOur GOFUNDME is here MAKE DONATION
URL:https://uptownnightclub.com/event/the-uptown-is-temporarily-closed-due-to-the-covid-19-crisis/
LOCATION:CA
END:VEVENT
BEGIN:VEVENT
DTSTART;VALUE=DATE:20200801
DTEND;VALUE=DATE:20200903
DTSTAMP:20260419T195915
CREATED:20200321T065634Z
LAST-MODIFIED:20200905T073542Z
UID:5422-1596254400-1599019199@uptownnightclub.com
SUMMARY:GOFUNDME for The Uptown
DESCRIPTION:GOFUNDME FOR THE UPTOWN \nThe outpouring of online support has been heartening. Our hope is that some of our supporters can also help us financially. \nWhen we were ordered closed\, our first concern was for our staff who cannot work from home and who depend on their paychecks and tips to survive. Thankfully we live in the great state of California that understands this concern and is providing unemployment benefits immediately. \nNow we must concern ourselves with making sure we can continue to pay our bills in order to be able to reopen and reemploy our staff. Most of the expenses of operating a nightclub don’t go away when the doors are closed (rent\, utilities\, music licensing rights\, insurance\, etc). Being a small independent business we have nowhere to turn for help except to our wonderful patrons. \nWe understand many of you are also a part of the creative community and hit hard by all of this too. But if any of you can give any amount it is much appreciated! \nLooking forward to life after this crisis when we can hopefully welcome you all back to The Uptown.
URL:https://uptownnightclub.com/event/virtual-fundraiser-for-the-uptown-nightclub/
LOCATION:CA
ATTACH;FMTTYPE=image/jpeg:https://uptownnightclub.com/wp-content/uploads/2020/03/9609CEFD-9CA4-41FC-8973-83A15CC58BAE.jpeg
END:VEVENT
BEGIN:VEVENT
DTSTART;VALUE=DATE:20200904
DTEND;VALUE=DATE:20210102
DTSTAMP:20260419T195915
CREATED:20200905T080658Z
LAST-MODIFIED:20200905T080825Z
UID:5544-1599192000-1609473599@uptownnightclub.com
SUMMARY:goodbye and thank you
DESCRIPTION:Dear Uptown Community\,\n\n\n\nIt is with deep sadness that we announce that The Uptown Nightclub will not be reopening. With no date in sight when live entertainment will be safe\, we just cannot afford to continue to pay our rent and other expenses with no income in the foreseeable future. This was a heartbreaking decision and one we put off as long as we possibly could. \n\n\nThe Uptown was never a financial investment for us – it was always a labor of love and the dividends it paid are measured in the wonderful friendships that sprung from the shared love of music. Knowing that these friendships will endure despite the closure of our beloved space offers some consolation in these dark days. In the six months that our doors have been closed due to the pandemic\, we have missed you all so much!\n\n\n\nWe miss the faces we saw nearly everyday and those we saw weekly or monthly when it was the night for ‘their’ event – be it Active Music Series\, The Lucky Devils Band or Two Piece Tuesdays\, Moonlight Comedy or Uptown Karaoke\, Suavecito Souldies or Fleetwood Macrame\, Hanging Garden or Death Guild\, 1UPtown with The M.A.D.E. or Hella Gay Dance Party\, Hubba Hubba or Risque Riot\, Smart Bomb or DAMgrown\, Hiero Nights or Nerd Nite\, 8x8x8 or I Love You For All Seasons\, Punk Black or Dark Sparkle; be it a local band playing their first show\, a touring band about to make it big\, or a lifelong music legend. So many talented people have played our stage and so many amazing patrons have been there to enjoy them. It was an honor to make these connections possible. We strived to represent and welcome the diversity of the Bay Area. In that we succeeded and we will be forever proud of this accomplishment.\n\n\n\nThank you all for being part of our lives.\n\n\n\nAnd a very special thanks to our fantastic staff who made every event\, and our lives\, that much better! Thank you Julio\, Chloe\, Victoria\, Fernando\, Timothy\, Randy\, Sam\, Sami\, Johnny\, Casy\, Aja\, Patricia\, Dave\, Danny\, Brandon\, Christina\, Zundra\, Zola\, Ella\, Sierra\, Eric\, Steve\, and Zoe — we love you!\n\n\n\nWith all our hearts\,\n\n\nRobbin Green-Yeh & Ray Yeh
URL:https://uptownnightclub.com/event/goodbye-and-thank-you/
LOCATION:The Uptown Nightclub\, 1928 Telegraph Ave \, Oakland\, CA\, 94612\, United States
END:VEVENT
END:VCALENDAR