BEGIN:VCALENDAR
VERSION:2.0
PRODID:-//Uptown Nightclub - ECPv6.15.20//NONSGML v1.0//EN
CALSCALE:GREGORIAN
METHOD:PUBLISH
X-ORIGINAL-URL:https://uptownnightclub.com
X-WR-CALDESC:Events for Uptown Nightclub
REFRESH-INTERVAL;VALUE=DURATION:PT1H
X-Robots-Tag:noindex
X-PUBLISHED-TTL:PT1H
BEGIN:VTIMEZONE
TZID:America/Los_Angeles
BEGIN:DAYLIGHT
TZOFFSETFROM:-0800
TZOFFSETTO:-0700
TZNAME:PDT
DTSTART:20190310T100000
END:DAYLIGHT
BEGIN:STANDARD
TZOFFSETFROM:-0700
TZOFFSETTO:-0800
TZNAME:PST
DTSTART:20191103T090000
END:STANDARD
BEGIN:DAYLIGHT
TZOFFSETFROM:-0800
TZOFFSETTO:-0700
TZNAME:PDT
DTSTART:20200308T100000
END:DAYLIGHT
BEGIN:STANDARD
TZOFFSETFROM:-0700
TZOFFSETTO:-0800
TZNAME:PST
DTSTART:20201101T090000
END:STANDARD
BEGIN:DAYLIGHT
TZOFFSETFROM:-0800
TZOFFSETTO:-0700
TZNAME:PDT
DTSTART:20210314T100000
END:DAYLIGHT
BEGIN:STANDARD
TZOFFSETFROM:-0700
TZOFFSETTO:-0800
TZNAME:PST
DTSTART:20211107T090000
END:STANDARD
BEGIN:DAYLIGHT
TZOFFSETFROM:-0800
TZOFFSETTO:-0700
TZNAME:PDT
DTSTART:20220313T100000
END:DAYLIGHT
BEGIN:STANDARD
TZOFFSETFROM:-0700
TZOFFSETTO:-0800
TZNAME:PST
DTSTART:20221106T090000
END:STANDARD
END:VTIMEZONE
BEGIN:VEVENT
DTSTART;TZID=America/Los_Angeles:20200327T210000
DTEND;TZID=America/Los_Angeles:20200328T010000
DTSTAMP:20260419T145310
CREATED:20200302T043110Z
LAST-MODIFIED:20200321T203724Z
UID:5363-1585342800-1585357200@uptownnightclub.com
SUMMARY:POSTPONED ** Return of the Silver & Black Soul Club Dance Party
DESCRIPTION:Silver & Black is back to bring you more of the best vintage soul sounds around! Resident DJs Rodrigo and Matt and special guests will be spinning Motown\, Stax\, Northern soul\, Funk\, R&B and Latin soul hits and rarities all night. Let’s catch a groove! \n21+ \nFree Entry \n 
URL:https://uptownnightclub.com/event/return-of-the-silver-black-soul-club-dance-party/
LOCATION:The Uptown Nightclub\, 1928 Telegraph Ave \, Oakland\, CA\, 94612\, United States
CATEGORIES:Dance Party,DJ,Oldies,Soul
ATTACH;FMTTYPE=image/png:https://uptownnightclub.com/wp-content/uploads/2020/03/12742380_713802025423723_7572616205094556252_n.png
END:VEVENT
BEGIN:VEVENT
DTSTART;TZID=America/Los_Angeles:20200328T200000
DTEND;TZID=America/Los_Angeles:20200329T013000
DTSTAMP:20260419T145310
CREATED:20200302T044235Z
LAST-MODIFIED:20200321T203831Z
UID:5367-1585425600-1585445400@uptownnightclub.com
SUMMARY:POSTPONED ** Smart Bomb Presents 7 Year Anniversary
DESCRIPTION:((( TICKETS ))) \n  \nSmart Bomb Presents \nFeaturing Swarvy\, Astu\, Shungu\, Lil Ze and Sounds of Paradise w/ special-surprise guest sets!\nBe sure to also support pop-up’s from Smart Bomb\, Nosei & Friends\, Cherri & Cutty Buddy\, and visuals by FLATSPOT_ \nflyer by: @thelowkeytheory \n$10 pre-sale\, $15 door ; 8pm-1:30am
URL:https://uptownnightclub.com/event/smart-bomb-presents-7th-anniversary/
LOCATION:The Uptown Nightclub\, 1928 Telegraph Ave \, Oakland\, CA\, 94612\, United States
ATTACH;FMTTYPE=image/jpeg:https://uptownnightclub.com/wp-content/uploads/2020/03/46101514_1716305561807902_8658472009367289856_n.jpg
END:VEVENT
BEGIN:VEVENT
DTSTART;TZID=America/Los_Angeles:20200330T190000
DTEND;TZID=America/Los_Angeles:20200330T220000
DTSTAMP:20260419T145310
CREATED:20200314T071201Z
LAST-MODIFIED:20200321T203913Z
UID:5406-1585594800-1585605600@uptownnightclub.com
SUMMARY:POSTPONED ** Nerd Nite
DESCRIPTION:Per Alameda County Public Health Department’s COVID19 guidance\, we have cancelled our March 30th event.\nEarly ticket buyers have been both refunded and comped a ticket to our April 27th event (assuming the virus has abated). We look forward to hosting the very cool talks by Hillery Shay\, Neem Patel\, and Julia DeMarines at future events.\n\nWe encourage you to:\n\nPatronize The Uptown’s bar\, since we could all probably use a drink. Seriously. The independent venues that we all love in Oakland are getting hit hard\, so they will need your support to make it through this\nEnjoy Miss Arepita’s future pop-ups\nCatch DJ Rubberband Girl on KALX [90.7FM\, Fri 6-9PM] and at Forbidden Island\nCheckout the virtual resources the Oakland Public Library has available\nLearn more about COVID19 and why events are being cancelled\nCatch-up on Nerd Nite videos at home [beer still encouraged]
URL:https://uptownnightclub.com/event/event-canceled-nerd-nite/
LOCATION:The Uptown Nightclub\, 1928 Telegraph Ave \, Oakland\, CA\, 94612\, United States
ATTACH;FMTTYPE=image/jpeg:https://uptownnightclub.com/wp-content/uploads/2020/03/90700407-6A6C-4E5A-87C2-B476DF43B76E.jpeg
END:VEVENT
BEGIN:VEVENT
DTSTART;TZID=America/Los_Angeles:20200404T210000
DTEND;TZID=America/Los_Angeles:20200405T014500
DTSTAMP:20260419T145310
CREATED:20180215T052650Z
LAST-MODIFIED:20200321T203327Z
UID:2967-1586034000-1586051100@uptownnightclub.com
SUMMARY:POSTPONED ** Death Guild Saturday
DESCRIPTION:Saturday\, April 4 \n9PM \n  \nDEATH GUILD SATURDAY \ngoth + industrial dance party \n  \nThe long running industrial goth club Death Guild keeps the night spooky the first Saturday of every month\, with two rooms of music as well as the Dark Market vendors in the upstairs mezzanine. Eerie drink specials and an outdoor patio. \nYou will hear your favorite industrial goth classics as well as new strange music. \nAdvance Tickets – $6.66 after Satan’s online fees \nDoors 9 PM\n$5 at the door until 9:30 PM\n$10 at the door after 9:30 PM \n21+ \nBar room\, dance floor\, bathrooms\, and outdoor patio are all wheelchair accessible. However\, the upstairs Dark Market is only accessible by a thin flight of stairs.
URL:https://uptownnightclub.com/event/death-guild-saturday-2/
LOCATION:The Uptown Nightclub\, 1928 Telegraph Ave \, Oakland\, CA\, 94612\, United States
CATEGORIES:Dance Party,DJ,Goth
ATTACH;FMTTYPE=image/jpeg:https://uptownnightclub.com/wp-content/uploads/2018/02/69512819_3329607950397491_7962525975558750208_n.jpg
END:VEVENT
BEGIN:VEVENT
DTSTART;TZID=America/Los_Angeles:20200410T210000
DTEND;TZID=America/Los_Angeles:20200411T013000
DTSTAMP:20260419T145310
CREATED:20200312T182305Z
LAST-MODIFIED:20200331T220614Z
UID:5389-1586552400-1586568600@uptownnightclub.com
SUMMARY:POSTPONED ** In Lak'ech Dance Academy: 2nd Annual Spring Fling Social!
DESCRIPTION:In Lak’ech Dance Academy presents the 2nd Annual Spring Fling Social! In Lak’ech Dance Academy is a love-centered dance academy that highlights Queer and Trans dancers.  \nWe will have a few performances by In Lak’ech Dance Academy and more to be announced. If you are interested in performing\, please contact Angelica or Jahaira via e-mail inlakechdance@gmail.com \nJahaira and Angelica will be teaching a beginner-friendly Bachata class from 9-10pm \nPerformances will start at 10:30pm \nSocial dancing from 10pm-2am  \nDJ Ron will be playing Salsa\, Bachata\, Cumbia and more \nWe will also be raffling 2 full festival passes to the 3rd Annual Queer Latin Dance Festival! \n$10 early bird price until March 15th | $15 until April 9th | $20 at the door \n21+ with valid ID \nThe Uptown is located just around the corner from the 19th Street BART Station and is wheelchair accessible
URL:https://uptownnightclub.com/event/in-lakech-dance-academy-presents-the-2nd-annual-spring-fling-social/
LOCATION:The Uptown Nightclub\, 1928 Telegraph Ave \, Oakland\, CA\, 94612\, United States
CATEGORIES:Dance,Queer
ATTACH;FMTTYPE=image/jpeg:https://uptownnightclub.com/wp-content/uploads/2020/03/89437980_3042744272459369_663943837349052416_o.jpg
END:VEVENT
BEGIN:VEVENT
DTSTART;TZID=America/Los_Angeles:20200414T200000
DTEND;TZID=America/Los_Angeles:20200414T233000
DTSTAMP:20260419T145310
CREATED:20190823T171625Z
LAST-MODIFIED:20200406T064328Z
UID:4788-1586894400-1586907000@uptownnightclub.com
SUMMARY:CANCELED ** Active Music Series: Euphotic\, Dunkelman & Corcoran
DESCRIPTION:  \n  \n  \n 
URL:https://uptownnightclub.com/event/velox-humm-amendolagonzalez-suki-okane-oppenheim/
LOCATION:The Uptown Nightclub\, 1928 Telegraph Ave \, Oakland\, CA\, 94612\, United States
CATEGORIES:Avant Garde,Live Performance
ATTACH;FMTTYPE=image/jpeg:https://uptownnightclub.com/wp-content/uploads/2018/04/12144953_720078818122615_2539905651622073056_n.jpg
END:VEVENT
BEGIN:VEVENT
DTSTART;TZID=America/Los_Angeles:20200416T200000
DTEND;TZID=America/Los_Angeles:20200416T233000
DTSTAMP:20260419T145310
CREATED:20200312T184402Z
LAST-MODIFIED:20200331T221247Z
UID:5393-1587067200-1587079800@uptownnightclub.com
SUMMARY:POSTPONED ** Tay + the JangLahDahs\, Boot Juice\, Levi Thomas\, Alternating Currents
DESCRIPTION:Tay and the JangLahDahs (OAK) \nBoot Juice (SAC) \nLevi Thomas (OAK) \nAlternating Currents (OAK) \n\nDoors at 8pm\nMusic at 9pm \n$10 \n~~~~~~~~~~~~~~~~~~~~~~~*~*~*~~~~~~~~~~~~~~~~~~~~~~~~\nTay and the JangLahDahs (Music Video Release!)\nwww.Janglahdahs.com \nJoan Baez walks off Jefferson Airplane to meet Rodriguez at Neutral Milk Hotel for a Whiskey Ginger and some Alabama Shakes…..\nTay and the JangLahDahs specializes in mixing colorful\, harmonic blends of Folk\, Rock\, Soul and Psych into a timeless\, freak-folk spirit of advice. This Bay Area band of multi-instrumentalists each brings an eccentric element; Tay Robin\, Greg Fogg\, Eric Wilson\, Andrew Byars\, and Mike Tiura.\n​\nDebut album “Bloomin’“ released June 13 2019 for their album-release tour of the Pacific Northwest. Currently playing surrounding the Bay Area\, CA. \nWise Words:\nhttps://www.youtube.com/watch?v=l7tTezHTlE4 \n~~~~~~~~~~~~~~~~~~~~~~~*~*~*~~~~~~~~~~~~~~~~~~~~~~~~\nBoot Juice\nwww.bootjuicejams.com \n5-piece band\, playing River Rock and Mountain Blues. Boot Juice is know to leave dance floors sticky. \n~~~~~~~~~~~~~~~~~~~~~~~*~*~*~~~~~~~~~~~~~~~~~~~~~~~~\nLevi Thomas\nhttps://www.facebook.com/levithomasmusic/ \n~~~~~~~~~~~~~~~~~~~~~~~*~*~*~~~~~~~~~~~~~~~~~~~~~~~~ \nThe Alternating Currents\nlinktr.ee/thealternatingcurrents
URL:https://uptownnightclub.com/event/tay-the-janglahdahs-boot-juice-levi-thomas-alternating-currents/
LOCATION:The Uptown Nightclub\, 1928 Telegraph Ave \, Oakland\, CA\, 94612\, United States
CATEGORIES:Folk,Psych Rock,Soul
ATTACH;FMTTYPE=image/jpeg:https://uptownnightclub.com/wp-content/uploads/2020/03/88185920_2779395818956572_3327121769038348288_o.jpg
END:VEVENT
BEGIN:VEVENT
DTSTART;TZID=America/Los_Angeles:20200425T190000
DTEND;TZID=America/Los_Angeles:20200425T210000
DTSTAMP:20260419T145310
CREATED:20200129T180412Z
LAST-MODIFIED:20200331T220207Z
UID:5263-1587841200-1587848400@uptownnightclub.com
SUMMARY:POSTPONED ** The Art Critique Comedy Show
DESCRIPTION:We curate a small gallery of thrift store art\, invite comedians to make fun of it\, then auction it off\, BABY! \nhttps://lowartforms.com/ \n“Art Critique Comedy Show is great for comedy lovers\, art snobs\, first dates\, date nights and people who think they’ve seen everything in the Bay Area.” – Peter Hartlaub is The San Francisco Chronicle’
URL:https://uptownnightclub.com/event/the-art-critique-comedy-show/
LOCATION:The Uptown Nightclub\, 1928 Telegraph Ave \, Oakland\, CA\, 94612\, United States
CATEGORIES:Art,Comedy
ATTACH;FMTTYPE=image/jpeg:https://uptownnightclub.com/wp-content/uploads/2020/01/2D94A97D-E5F2-4067-BF0E-D8E255B7675D.jpeg
END:VEVENT
BEGIN:VEVENT
DTSTART;TZID=America/Los_Angeles:20200425T220000
DTEND;TZID=America/Los_Angeles:20200426T220000
DTSTAMP:20260419T145310
CREATED:20200128T222303Z
LAST-MODIFIED:20200331T220112Z
UID:5259-1587852000-1587938400@uptownnightclub.com
SUMMARY:POSTPONED ** Afro Karaoke Oakland
DESCRIPTION:Afro Karaoke is coming to Oakland! \nBringing you a night filled with dancing\, karaoke\, and most importantly cultural vibes! \nDJ Renzay\, alongside with special guest DJs\, will be spinning afrobeats\, reggae\, soca\, kwaito\, soukous\, highlife and more so bring your afrocentric vibes as we vibe out all night! \nKaraoke sign-ups will be available at the door. \nhttps://www.afrokaraoketour.com \n10:00 PM Doors \n$20 Early Bird (2 pack) / $15 Advance / $20 Day of Show \n—– \n21+ with valid ID \nThe Uptown is located just around the corner from the 19th Street BART Station and is wheelchair accessible.
URL:https://uptownnightclub.com/event/afro-karaoke-oakland/
LOCATION:The Uptown Nightclub\, 1928 Telegraph Ave \, Oakland\, CA\, 94612\, United States
ATTACH;FMTTYPE=image/jpeg:https://uptownnightclub.com/wp-content/uploads/2020/01/82578006_3765407260150889_6326964298522296320_o.jpg
END:VEVENT
BEGIN:VEVENT
DTSTART;TZID=America/Los_Angeles:20200501T193000
DTEND;TZID=America/Los_Angeles:20200501T210000
DTSTAMP:20260419T145310
CREATED:20190521T203336Z
LAST-MODIFIED:20200406T064226Z
UID:4489-1588361400-1588366800@uptownnightclub.com
SUMMARY:CANCELED ** Moonlight Comedy: First Friday Edition
DESCRIPTION:Moonlight Comedy: Stand Up Under the Stars! (FIRST FRIDAY EDITION) is a live stand up comedy showcase located in the heart of downtown Oakland. Each month features some of the best local and traveling comedians as seen on Comedy Central\, HBO\, MTV & Viceland. Please arrive early as seating is not guranteed. \n\n\n \n\n\n\nSuavecito Souldies DJ sets after the show \n\n\n \n\n\nMoonlight Comedy will take place in the outside patio of the Uptown Nightclub. On colder nights we’ll have heat lamps to keep you toasty.\n\n\n \n\n\n*Lineup is subject to change*\n\n\n \n\n\nDonations are encouraged and appreciated
URL:https://uptownnightclub.com/event/moonlight-comedy-first-friday-edition/
LOCATION:The Uptown Nightclub\, 1928 Telegraph Ave \, Oakland\, CA\, 94612\, United States
CATEGORIES:Comedy,Free events,Live Performance
ATTACH;FMTTYPE=image/png:https://uptownnightclub.com/wp-content/uploads/2019/05/Screen-Shot-2019-05-21-at-1.30.04-PM.png
END:VEVENT
BEGIN:VEVENT
DTSTART;TZID=America/Los_Angeles:20200501T210000
DTEND;TZID=America/Los_Angeles:20200501T230000
DTSTAMP:20260419T145310
CREATED:20200617T021728Z
LAST-MODIFIED:20200623T080140Z
UID:5525-1588366800-1588374000@uptownnightclub.com
SUMMARY:zpextre
DESCRIPTION:Something is wrong.Instagram token error.      \n      \n      \n        \n          \n          \n                  \n        \n                                  uptownnightclub\n                                \n              \n                Follow\n              \n            \n                                      \n      \n      \n                \n        \n                \n        \n                      \n                \n                  \n                    \n                      Load More
URL:https://uptownnightclub.com/event/zpextre/
LOCATION:The Uptown Nightclub\, 1928 Telegraph Ave \, Oakland\, CA\, 94612\, United States
ATTACH;FMTTYPE=image/jpeg:https://uptownnightclub.com/wp-content/uploads/2020/06/b-spot-spaceship-1.2-scaled.jpg
ORGANIZER;CN="zpextre":MAILTO:zpextre@gmail.com
END:VEVENT
BEGIN:VEVENT
DTSTART;TZID=America/Los_Angeles:20200501T210000
DTEND;TZID=America/Los_Angeles:20200502T020000
DTSTAMP:20260419T145310
CREATED:20191019T063546Z
LAST-MODIFIED:20200406T064141Z
UID:5007-1588366800-1588384800@uptownnightclub.com
SUMMARY:CANCELED ** Suavecito Souldies
DESCRIPTION:Voted “Best DJ Night” East Bay Express 2019. \nLowrider Oldies/ Sweet Soul/Northern Soul spun on 45rpm. \n 
URL:https://uptownnightclub.com/event/suavecito-souldies-2/
LOCATION:The Uptown Nightclub\, 1928 Telegraph Ave \, Oakland\, CA\, 94612\, United States
CATEGORIES:DJ,First Friday,Free events,Oldies,Soul
ATTACH;FMTTYPE=image/png:https://uptownnightclub.com/wp-content/uploads/2019/02/Screen-Shot-2019-09-22-at-12.04.39-AM.png
END:VEVENT
BEGIN:VEVENT
DTSTART;TZID=America/Los_Angeles:20200506T190000
DTEND;TZID=America/Los_Angeles:20200506T210000
DTSTAMP:20260419T145310
CREATED:20161214T203749Z
LAST-MODIFIED:20200503T205637Z
UID:1694-1588791600-1588798800@uptownnightclub.com
SUMMARY:CANCELED - Moonlight Comedy: Stand Up Under the Stars!
DESCRIPTION:CANCELED Moonlight Comedy: Stand Up Under the Stars! is a live weekly stand-up comedy showcase located in the heart of downtown Oakland. Each week features some of the best local and traveling comedians as seen on Comedy Central and HBO. Please arrive early\, seating is not guaranteed. \nThe event usually takes place in The Uptown’s outdoor patio\, but we move the event indoors to the bar room on rainy days. \n\n\nNo cover \n21+
URL:https://uptownnightclub.com/event/comedy-night-uptown-13/
LOCATION:The Uptown Nightclub\, 1928 Telegraph Ave \, Oakland\, CA\, 94612\, United States
CATEGORIES:Comedy,Free events
ATTACH;FMTTYPE=image/png:https://uptownnightclub.com/wp-content/uploads/2016/12/Screen-Shot-2017-10-20-at-12.56.56-PM.png
END:VEVENT
BEGIN:VEVENT
DTSTART;TZID=America/Los_Angeles:20200506T210000
DTEND;TZID=America/Los_Angeles:20200506T233000
DTSTAMP:20260419T145310
CREATED:20170929T205520Z
LAST-MODIFIED:20200503T205911Z
UID:2535-1588798800-1588807800@uptownnightclub.com
SUMMARY:CANCELED Karaoke Night at The Uptown
DESCRIPTION:Karaoke Night at The Uptown \nEvery Wednesday at 9PM\, immediately following Moonlight Comedy. Come sing your heart out. \nNo Cover | 21+ | Wheelchair Accessible \nBring your friends and come make new ones
URL:https://uptownnightclub.com/event/karaoke-night-uptown/
LOCATION:The Uptown Nightclub\, 1928 Telegraph Ave \, Oakland\, CA\, 94612\, United States
CATEGORIES:80s music,Free events,Goth,Karaoke,Punk
ATTACH;FMTTYPE=image/jpeg:https://uptownnightclub.com/wp-content/uploads/2017/09/Poly-Karaoke-Uptown.jpg
END:VEVENT
BEGIN:VEVENT
DTSTART;TZID=America/Los_Angeles:20200513T190000
DTEND;TZID=America/Los_Angeles:20200513T210000
DTSTAMP:20260419T145310
CREATED:20161214T202405Z
LAST-MODIFIED:20200503T210145Z
UID:1692-1589396400-1589403600@uptownnightclub.com
SUMMARY:CANCELED Moonlight Comedy: Stand Up Under the Stars!
DESCRIPTION:Moonlight Comedy: Stand Up Under the Stars! is a live weekly stand-up comedy showcase located in the heart of downtown Oakland. Each week features some of the best local and traveling comedians as seen on Comedy Central\, HBO\, Seeso & Viceland. \nThe event usually takes place in The Uptown’s outdoor patio\, but we move the event indoors to the bar room on cold or rainy days. \nEvery Wednesday at The Uptown. \nNo cover \n21+
URL:https://uptownnightclub.com/event/comedy-night-uptown-11/
LOCATION:The Uptown Nightclub\, 1928 Telegraph Ave \, Oakland\, CA\, 94612\, United States
CATEGORIES:Comedy,Free events
ATTACH;FMTTYPE=image/png:https://uptownnightclub.com/wp-content/uploads/2016/12/Screen-Shot-2017-10-20-at-12.56.56-PM.png
END:VEVENT
BEGIN:VEVENT
DTSTART;TZID=America/Los_Angeles:20200513T210000
DTEND;TZID=America/Los_Angeles:20200514T003000
DTSTAMP:20260419T145310
CREATED:20171010T162735Z
LAST-MODIFIED:20200503T210228Z
UID:2572-1589403600-1589416200@uptownnightclub.com
SUMMARY:CANCELED Karaoke Night at The Uptown
DESCRIPTION:Karaoke Night at The Uptown! \nEvery Wednesday at 9:00PM\, right after Moonlight Comedy \nNo Cover | 21+ | Wheelchair Accessible \n 
URL:https://uptownnightclub.com/event/karaoke-night-uptown-2/
LOCATION:The Uptown Nightclub\, 1928 Telegraph Ave \, Oakland\, CA\, 94612\, United States
CATEGORIES:Free events,Karaoke
ATTACH;FMTTYPE=image/jpeg:https://uptownnightclub.com/wp-content/uploads/2017/09/Poly-Karaoke-Uptown.jpg
END:VEVENT
BEGIN:VEVENT
DTSTART;TZID=America/Los_Angeles:20200515T210000
DTEND;TZID=America/Los_Angeles:20200516T003000
DTSTAMP:20260419T145310
CREATED:20200302T050452Z
LAST-MODIFIED:20200503T210330Z
UID:5380-1589576400-1589589000@uptownnightclub.com
SUMMARY:CANCELED Ian Curtis Memorial Show: Dead Souls\, Voodoo Dolly\, & Death Valley High
DESCRIPTION:Ian Curtis Memorial Show\n\n\nhonoring his life 40 years after his death \n\n\n \n\n\nfeaturing\n\n\nDead Souls – A tribute to Joy Division\,\n\n\nVoodoo Dolly and\n\n\nDeath Valley High (performing their favorite covers from throughout their career)\n\n\n \n\n\nFriday\, May 15th\, 9pm\n\n\n$15\, 21+\n\n\n \n\n\nThe Uptown\n\n\n1928 Telegraph Ave.\n\n\nOakland
URL:https://uptownnightclub.com/event/ian-curtis-memorial-show-dead-souls-voodoo-dolly-death-valley-high/
LOCATION:The Uptown Nightclub\, 1928 Telegraph Ave \, Oakland\, CA\, 94612\, United States
ATTACH;FMTTYPE=image/png:https://uptownnightclub.com/wp-content/uploads/2020/03/3912.png
END:VEVENT
BEGIN:VEVENT
DTSTART;TZID=America/Los_Angeles:20200520T190000
DTEND;TZID=America/Los_Angeles:20200520T210000
DTSTAMP:20260419T145310
CREATED:20161214T203354Z
LAST-MODIFIED:20200503T210052Z
UID:1693-1590001200-1590008400@uptownnightclub.com
SUMMARY:CANCELED Moonlight Comedy: Stand Up Under the Stars!
DESCRIPTION:Moonlight Comedy: Stand Up Under the Stars! is a live weekly stand-up comedy showcase located in the heart of downtown Oakland. Each week features some of the best local and traveling comedians as seen on Comedy Central\, HBO\, Seeso & Viceland. Please arrive early\, seating is not guaranteed. \nThe event usually takes place in The Uptown’s outdoor patio\, but we move the event indoors to the bar room on rainy days. \nEvery Wednesday at The Uptown. \nNo cover \n21+
URL:https://uptownnightclub.com/event/comedy-night-uptown-12/
LOCATION:The Uptown Nightclub\, 1928 Telegraph Ave \, Oakland\, CA\, 94612\, United States
CATEGORIES:Comedy,Free events
ATTACH;FMTTYPE=image/png:https://uptownnightclub.com/wp-content/uploads/2016/12/Screen-Shot-2017-10-20-at-12.56.56-PM.png
END:VEVENT
BEGIN:VEVENT
DTSTART;TZID=America/Los_Angeles:20200520T210000
DTEND;TZID=America/Los_Angeles:20200521T233000
DTSTAMP:20260419T145310
CREATED:20170921T204049Z
LAST-MODIFIED:20200503T210006Z
UID:2505-1590008400-1590103800@uptownnightclub.com
SUMMARY:CANCELED Karaoke Night at The Uptown
DESCRIPTION:Karaoke Night at The Uptown! \nEvery Wednesday at 9PM\, right after Moonlight Comedy \nNo Cover | 21+ | Wheelchair Accessible \nBring your friends and come make new ones \n 
URL:https://uptownnightclub.com/event/karaoke-night/
LOCATION:The Uptown Nightclub\, 1928 Telegraph Ave \, Oakland\, CA\, 94612\, United States
CATEGORIES:Free events,Karaoke
ATTACH;FMTTYPE=image/jpeg:https://uptownnightclub.com/wp-content/uploads/2017/09/Poly-Karaoke-Uptown.jpg
END:VEVENT
BEGIN:VEVENT
DTSTART;TZID=America/Los_Angeles:20200628T190000
DTEND;TZID=America/Los_Angeles:20200628T235900
DTSTAMP:20260419T145310
CREATED:20200602T021325Z
LAST-MODIFIED:20200627T212757Z
UID:5516-1593370800-1593388740@uptownnightclub.com
SUMMARY:CANCELED - Lunchbox\, The Umbrellas\, Artsick\, A Certain Smile
DESCRIPTION:Sunday\, June 28\n7pm \nLUNCHBOX\nTHE UMBRELLAS\nARTSICK\nA CERTAIN SMILE \n+ DJ Mike Schulman (Slumberland Records) between sets
URL:https://uptownnightclub.com/event/lunchbox-the-umbrellas-artsick-a-certain-smile/
LOCATION:The Uptown Nightclub\, 1928 Telegraph Ave \, Oakland\, CA\, 94612\, United States
CATEGORIES:Indie,Indiepop,Live Performance
ATTACH;FMTTYPE=image/jpeg:https://uptownnightclub.com/wp-content/uploads/2020/06/48CBCC31-281C-4376-8F77-E14BD92D515D.jpeg
END:VEVENT
BEGIN:VEVENT
DTSTART;TZID=America/Los_Angeles:20200726T190000
DTEND;TZID=America/Los_Angeles:20200726T233000
DTSTAMP:20260419T145310
CREATED:20200407T220938Z
LAST-MODIFIED:20211006T191848Z
UID:5477-1595790000-1595806200@uptownnightclub.com
SUMMARY:POSTPONED - FEELS • Seablite • Galore + DJ Fernando (KALX)
DESCRIPTION:Sunday\, July 26 \nFEELS\nSeablite\nGalore\n+ DJ Fernando (KALX) \n$10 | $12 \n  \nFEELS \n \nFEELS is an Echo Park\, Los Angeles based post-punk / glam-grunge / krautpop band fronted by madly talented Laena Geronimo of The Like (Geffen Records) and some of her band mates from Raw Geronimo (Neurotic Yell Records). FEELS is presently one of Southern California’s most intriguing bands. They combine punk rock intensity with lush layers of dreampop. \nFEELS released their debut live album in 2015 on Lollipop Records\, followed by their wonderful debut S/T studio album on Castle Face Records in 2016. Their new album\, Post Earth\, is out now on Wichita Recordings. \nSEABLITE \n \nSeablite are a jangly and melodic indiepop band from San Francisco\, featuring former members of Wax Idols & Dirty Cupcakes. Receiving an abundance of critical acclaim for their debut EP on Death Records in 2017 and debut LP on Emotional Response\, Seablite graced 2020 with a lovely new EP in February called High-Rise Mannequins. \nGALORE\n \n  \nGalore is an emerging diy indiepop / jangle-punk band from San Francisco featuring members of Rays and Rainbow. Their Demos cassette quickly sold out on Bandcamp after self-releasing it in December of 2018. Their highly anticipated debut LP is due out in May 2020 on Sonny Smith’s label\, Rocks In Your Head. \n  \nThis event is 21+ and wheelchair accessible. \n  \n  \n  \n  \n 
URL:https://uptownnightclub.com/event/feels/
LOCATION:CA
CATEGORIES:Garage,Indiepop,Post-Punk
ATTACH;FMTTYPE=image/jpeg:https://uptownnightclub.com/wp-content/uploads/2020/04/C892F2B2-BB75-4E81-976C-77A0F83E11AE.jpeg
END:VEVENT
BEGIN:VEVENT
DTSTART;VALUE=DATE:20200801
DTEND;VALUE=DATE:20200903
DTSTAMP:20260419T145310
CREATED:20200321T065634Z
LAST-MODIFIED:20200905T073542Z
UID:5422-1596254400-1599019199@uptownnightclub.com
SUMMARY:GOFUNDME for The Uptown
DESCRIPTION:GOFUNDME FOR THE UPTOWN \nThe outpouring of online support has been heartening. Our hope is that some of our supporters can also help us financially. \nWhen we were ordered closed\, our first concern was for our staff who cannot work from home and who depend on their paychecks and tips to survive. Thankfully we live in the great state of California that understands this concern and is providing unemployment benefits immediately. \nNow we must concern ourselves with making sure we can continue to pay our bills in order to be able to reopen and reemploy our staff. Most of the expenses of operating a nightclub don’t go away when the doors are closed (rent\, utilities\, music licensing rights\, insurance\, etc). Being a small independent business we have nowhere to turn for help except to our wonderful patrons. \nWe understand many of you are also a part of the creative community and hit hard by all of this too. But if any of you can give any amount it is much appreciated! \nLooking forward to life after this crisis when we can hopefully welcome you all back to The Uptown.
URL:https://uptownnightclub.com/event/virtual-fundraiser-for-the-uptown-nightclub/
LOCATION:CA
ATTACH;FMTTYPE=image/jpeg:https://uptownnightclub.com/wp-content/uploads/2020/03/9609CEFD-9CA4-41FC-8973-83A15CC58BAE.jpeg
END:VEVENT
BEGIN:VEVENT
DTSTART;VALUE=DATE:20200904
DTEND;VALUE=DATE:20210102
DTSTAMP:20260419T145310
CREATED:20200905T080658Z
LAST-MODIFIED:20200905T080825Z
UID:5544-1599192000-1609473599@uptownnightclub.com
SUMMARY:goodbye and thank you
DESCRIPTION:Dear Uptown Community\,\n\n\n\nIt is with deep sadness that we announce that The Uptown Nightclub will not be reopening. With no date in sight when live entertainment will be safe\, we just cannot afford to continue to pay our rent and other expenses with no income in the foreseeable future. This was a heartbreaking decision and one we put off as long as we possibly could. \n\n\nThe Uptown was never a financial investment for us – it was always a labor of love and the dividends it paid are measured in the wonderful friendships that sprung from the shared love of music. Knowing that these friendships will endure despite the closure of our beloved space offers some consolation in these dark days. In the six months that our doors have been closed due to the pandemic\, we have missed you all so much!\n\n\n\nWe miss the faces we saw nearly everyday and those we saw weekly or monthly when it was the night for ‘their’ event – be it Active Music Series\, The Lucky Devils Band or Two Piece Tuesdays\, Moonlight Comedy or Uptown Karaoke\, Suavecito Souldies or Fleetwood Macrame\, Hanging Garden or Death Guild\, 1UPtown with The M.A.D.E. or Hella Gay Dance Party\, Hubba Hubba or Risque Riot\, Smart Bomb or DAMgrown\, Hiero Nights or Nerd Nite\, 8x8x8 or I Love You For All Seasons\, Punk Black or Dark Sparkle; be it a local band playing their first show\, a touring band about to make it big\, or a lifelong music legend. So many talented people have played our stage and so many amazing patrons have been there to enjoy them. It was an honor to make these connections possible. We strived to represent and welcome the diversity of the Bay Area. In that we succeeded and we will be forever proud of this accomplishment.\n\n\n\nThank you all for being part of our lives.\n\n\n\nAnd a very special thanks to our fantastic staff who made every event\, and our lives\, that much better! Thank you Julio\, Chloe\, Victoria\, Fernando\, Timothy\, Randy\, Sam\, Sami\, Johnny\, Casy\, Aja\, Patricia\, Dave\, Danny\, Brandon\, Christina\, Zundra\, Zola\, Ella\, Sierra\, Eric\, Steve\, and Zoe — we love you!\n\n\n\nWith all our hearts\,\n\n\nRobbin Green-Yeh & Ray Yeh
URL:https://uptownnightclub.com/event/goodbye-and-thank-you/
LOCATION:The Uptown Nightclub\, 1928 Telegraph Ave \, Oakland\, CA\, 94612\, United States
END:VEVENT
END:VCALENDAR