BEGIN:VCALENDAR
VERSION:2.0
PRODID:-//Uptown Nightclub - ECPv6.15.20//NONSGML v1.0//EN
CALSCALE:GREGORIAN
METHOD:PUBLISH
X-WR-CALNAME:Uptown Nightclub
X-ORIGINAL-URL:https://uptownnightclub.com
X-WR-CALDESC:Events for Uptown Nightclub
REFRESH-INTERVAL;VALUE=DURATION:PT1H
X-Robots-Tag:noindex
X-PUBLISHED-TTL:PT1H
BEGIN:VTIMEZONE
TZID:America/Los_Angeles
BEGIN:DAYLIGHT
TZOFFSETFROM:-0800
TZOFFSETTO:-0700
TZNAME:PDT
DTSTART:20180311T100000
END:DAYLIGHT
BEGIN:STANDARD
TZOFFSETFROM:-0700
TZOFFSETTO:-0800
TZNAME:PST
DTSTART:20181104T090000
END:STANDARD
BEGIN:DAYLIGHT
TZOFFSETFROM:-0800
TZOFFSETTO:-0700
TZNAME:PDT
DTSTART:20190310T100000
END:DAYLIGHT
BEGIN:STANDARD
TZOFFSETFROM:-0700
TZOFFSETTO:-0800
TZNAME:PST
DTSTART:20191103T090000
END:STANDARD
BEGIN:DAYLIGHT
TZOFFSETFROM:-0800
TZOFFSETTO:-0700
TZNAME:PDT
DTSTART:20200308T100000
END:DAYLIGHT
BEGIN:STANDARD
TZOFFSETFROM:-0700
TZOFFSETTO:-0800
TZNAME:PST
DTSTART:20201101T090000
END:STANDARD
END:VTIMEZONE
BEGIN:VEVENT
DTSTART;TZID=America/Los_Angeles:20190901T140000
DTEND;TZID=America/Los_Angeles:20190901T200000
DTSTAMP:20260419T162611
CREATED:20190808T025007Z
LAST-MODIFIED:20190820T200130Z
UID:4743-1567346400-1567368000@uptownnightclub.com
SUMMARY:Hiero Day Party with 45 Sessions\, Diamond D\, Breakbeat Lou\, Dante Ross
DESCRIPTION:We’re partnering with 45 Sessions to bring you a banging day party to get ready for the Hiero Day festivities on Monday. Expect an incredible lineup of DJs digging in the crates to bring the heat! \n  \n((( Tickets )))
URL:https://uptownnightclub.com/event/hiero-day-party-w-45-sessions-special-guest-djs/
LOCATION:The Uptown Nightclub\, 1928 Telegraph Ave \, Oakland\, CA\, 94612\, United States
CATEGORIES:DJ,Hip Hop
ATTACH;FMTTYPE=image/png:https://uptownnightclub.com/wp-content/uploads/2018/05/1200px-Hieroglyphics-01.svg_.png
END:VEVENT
BEGIN:VEVENT
DTSTART;TZID=America/Los_Angeles:20190901T210000
DTEND;TZID=America/Los_Angeles:20190902T013000
DTSTAMP:20260419T162611
CREATED:20190811T065413Z
LAST-MODIFIED:20190811T065601Z
UID:4762-1567371600-1567387800@uptownnightclub.com
SUMMARY:DJ Toure Presents: Social Study
DESCRIPTION:Social Study: artists\, new connections\, and a diverse music community vibing together in The Town building relationships. \nOakland’s social scene is unlike any other city\, and this year some of the greatest talent from The Town and beyond is setting the tone for an interactive concert to kick off “Social Study”. \nGoing down at the Uptown on September 1st featuring: \nArtists: \nDee Dot Jones \nSt Spittin \nLoove Moore \nEmakulant \nAnml Plnt \nDJs: \nDJ Top Spin \nChris the Glove Taylor \nDJ Shellheart \nDrew Banger \nDJ Lady Ryan \n21+ with valid ID \nThe Uptown is located just around the corner from the 19th Street BART Station and is wheelchair accessible
URL:https://uptownnightclub.com/event/dj-toure-presents-social-study/
LOCATION:The Uptown Nightclub\, 1928 Telegraph Ave \, Oakland\, CA\, 94612\, United States
CATEGORIES:Hip Hop
ATTACH;FMTTYPE=image/png:https://uptownnightclub.com/wp-content/uploads/2019/08/Screen-Shot-2019-08-10-at-11.52.30-PM.png
END:VEVENT
BEGIN:VEVENT
DTSTART;TZID=America/Los_Angeles:20190905T190000
DTEND;TZID=America/Los_Angeles:20190905T230000
DTSTAMP:20260419T162611
CREATED:20190823T170841Z
LAST-MODIFIED:20190823T170841Z
UID:4785-1567710000-1567724400@uptownnightclub.com
SUMMARY:Lyda\, Mr. Manny & the Blackouts
DESCRIPTION:7:30pm LYDA\nwww.instagram.com/lydathelady/\nwww.facebook.com/lydamusician/\nwww.soundcloud.com/lyda_music/ \n9:00pm Mr. Manny & the Blackouts\nSongwriter Manny Bernal of Fleeting Trance performs with The BlackOuts. \n21+ with valid ID\nThe Uptown is located just around the corner from the 19th street BART station
URL:https://uptownnightclub.com/event/lyda-mr-manny-blackouts/
LOCATION:The Uptown Nightclub\, 1928 Telegraph Ave \, Oakland\, CA\, 94612\, United States
CATEGORIES:Americana,Free events,Live Performance,Singer songwriter
ATTACH;FMTTYPE=image/png:https://uptownnightclub.com/wp-content/uploads/2019/08/Screen-Shot-2019-08-23-at-10.01.35-AM.png
END:VEVENT
BEGIN:VEVENT
DTSTART;TZID=America/Los_Angeles:20190906T200000
DTEND;TZID=America/Los_Angeles:20190907T010000
DTSTAMP:20260419T162611
CREATED:20190701T045817Z
LAST-MODIFIED:20190811T074254Z
UID:4665-1567800000-1567818000@uptownnightclub.com
SUMMARY:Ash Code (Italy)\, Wingtips (Chi)\, Creux Lies
DESCRIPTION:((( TICKETS ))) \nNear Dark Presents \nASH CODE – Italian Dark wave\, First US tour \nWingtips (Chicago) \nCreux Lies \nAsh Code\nhttp://www.ashcode.eu/\nhttps://ashcode.bandcamp.com/ \nAsh Code is an Italian Dark Wave band formed in 2014 in Napoli by the singer Alessandro Belluccio\, the keyboardist Claudia Nottebella and the bass player Adriano Belluccio. Ash Code music covers a wide range of genres including Dark Wave\, post-punk\, Synthpop and EBM \nWingtips\nhttps://wingtips.bandcamp.com/ \nCreux Lies\nhttps://creuxlies.bandcamp.com/ \nDoors at 8\, Show at 9\n$15 \n21+
URL:https://uptownnightclub.com/event/ash-code-italy-wingtips-chi-creux-lies/
LOCATION:The Uptown Nightclub\, 1928 Telegraph Ave \, Oakland\, CA\, 94612\, United States
CATEGORIES:Goth,Live Performance,Post-Punk,Synth Pop
ATTACH;FMTTYPE=image/jpeg:https://uptownnightclub.com/wp-content/uploads/2019/06/65012172_625645357918404_3949184259297640448_n-1.jpg
END:VEVENT
BEGIN:VEVENT
DTSTART;TZID=America/Los_Angeles:20190907T170000
DTEND;TZID=America/Los_Angeles:20190907T190000
DTSTAMP:20260419T162611
CREATED:20190831T190249Z
LAST-MODIFIED:20190831T190517Z
UID:4815-1567875600-1567882800@uptownnightclub.com
SUMMARY:Out In Tech SF | Oakland Pride Kickoff
DESCRIPTION:Oakland Pride is here\, and Out in Tech SF is excited to kick it off across the Bay! Join hundreds of GSM (gender & sexual minorities) techies\, allies\, and friends at the Uptown to grab a drink and celebrate our community & history! \n———— \nNote: Out in Tech’s Code of Conduct applies to all our spaces\, online and IRL.
URL:https://uptownnightclub.com/event/tech-sf-oakland-pride-kickoff/
LOCATION:The Uptown Nightclub\, 1928 Telegraph Ave \, Oakland\, CA\, 94612\, United States
ATTACH;FMTTYPE=image/png:https://uptownnightclub.com/wp-content/uploads/2019/08/Screen-Shot-2019-08-31-at-12.01.20-PM.png
END:VEVENT
BEGIN:VEVENT
DTSTART;TZID=America/Los_Angeles:20190908T190000
DTEND;TZID=America/Los_Angeles:20190908T230000
DTSTAMP:20260419T162611
CREATED:20190811T075143Z
LAST-MODIFIED:20190906T232205Z
UID:4767-1567969200-1567983600@uptownnightclub.com
SUMMARY:Spyn Reset\, Klyph\, Secret Sidewalk
DESCRIPTION:An evening of electro-jam-rock & grooves with SPYN RESET (Seattle)\, KLYPH (New Orleans) & Secret Sidewalk (Oakland) \nwww.spynreset.com\nElectro meets Prog meets Jam meets Metal meets Dance!\nWe are unique\, we are doing our thing. Join us if you like weirdness 😉 \nhttps://www.bubblebathrecords.com/klyph/\n$0Nîç w@LL 0F D3ATH d@nçe P@rt¥ \nhttp://secretsidewalkmusic.com\nElectro-acoustic quartet all born and raised in the Bay Area but from vastly different backgrounds and crafts – inveterate jazz\, hip hop and experimental music practitioners well-versed in taking their listeners on a journey. \n21+ with valid ID \nThe Uptown is located just around the corner from the 19th Street BART Station and is wheelchair accessible
URL:https://uptownnightclub.com/event/spyn-reset-klyph-secret-sidewalk/
LOCATION:The Uptown Nightclub\, 1928 Telegraph Ave \, Oakland\, CA\, 94612\, United States
CATEGORIES:Avant Garde,Experimental,Jazz,Psych Rock
ATTACH;FMTTYPE=image/png:https://uptownnightclub.com/wp-content/uploads/2019/08/Screen-Shot-2019-08-11-at-12.50.51-AM.png
END:VEVENT
BEGIN:VEVENT
DTSTART;TZID=America/Los_Angeles:20190912T190000
DTEND;TZID=America/Los_Angeles:20190912T235900
DTSTAMP:20260419T162611
CREATED:20190620T020851Z
LAST-MODIFIED:20190831T190755Z
UID:4617-1568314800-1568332740@uptownnightclub.com
SUMMARY:The Vanishing\, Cemetery\, Over\, Vice Device\, Esses
DESCRIPTION:((( TICKETS ))) \nNear Dark Presents: \nThe Vanishing – 20 year anniversary show!\nCemetery (Chicago)\nOver (Portland)\nVice Device (Portland)\nEsses\n+ DJ Pockets Macabre \nNight 1 is not to be missed! \nDoors 7pm | Show 8pm\n21+ \nhttps://www.eventbrite.com/e/near-dark-fest-day-1-the-vanishing-more-tickets-63363048584
URL:https://uptownnightclub.com/event/vanishing-cemetery-totenwald-vice-device-esses/
LOCATION:The Uptown Nightclub\, 1928 Telegraph Ave \, Oakland\, CA\, 94612\, United States
CATEGORIES:Goth,Live Performance,Post-Punk
ATTACH;FMTTYPE=image/png:https://uptownnightclub.com/wp-content/uploads/2019/06/Screen-Shot-2019-06-19-at-7.01.32-PM.png
END:VEVENT
BEGIN:VEVENT
DTSTART;TZID=America/Los_Angeles:20190913T200000
DTEND;TZID=America/Los_Angeles:20190914T010000
DTSTAMP:20260419T162611
CREATED:20190207T202525Z
LAST-MODIFIED:20190904T173053Z
UID:4155-1568404800-1568422800@uptownnightclub.com
SUMMARY:Pink Turns Blue\, Second Still\, Totenwald\, The Ire\, Yama Uba
DESCRIPTION:((( TICKETS ))) \nNear Dark Fest presents: \nPost-Punk Legends from Berlin\, Germany \nPINK TURNS BLUE \n  \n \nFormed in 1985\, they quickly put out their first LP\, If Two Worlds Kiss (1987) expressing a sound reminiscent of new wave with very dark undertones and use of synthesizers\, only to become one of the pioneers of the developing subgenre of first darkwave (Meta 1988) then cold wave (Eremite 1990\, Aerdt 1991). \nAfter many hits like “Michelle”\, “Walking on Both Sides”\, “Your Master Is Calling”\, “The First”\, “I Coldly Stare Out”\, “Touch the Skies”\, “Catholic Sunday”\, “Missing You”\, “If Two Worlds Kiss”\, “Moon” and “Seven Years”\, they split up in 1995. \nIn 2003\, they reformed to appear in a few festivals. Because of the success of the reunion\, they released a Best Of album called Re-Union\, in 2005 their studio album Phoenix and in 2017 “Ghost”. The latest Album is called “The AERDT – Untold Stories” \nSECOND STILL   \n  \nTOTENWALD   \n  \n  \n  \nYAMA UBA  
URL:https://uptownnightclub.com/event/pink-turns-blue/
LOCATION:The Uptown Nightclub\, 1928 Telegraph Ave \, Oakland\, CA\, 94612\, United States
CATEGORIES:80s music,90s,Concerts,Goth,Post-Punk
ATTACH;FMTTYPE=image/png:https://uptownnightclub.com/wp-content/uploads/2019/02/Screen-Shot-2019-02-07-at-12.14.08-PM.png
END:VEVENT
BEGIN:VEVENT
DTSTART;TZID=America/Los_Angeles:20190914T190000
DTEND;TZID=America/Los_Angeles:20190914T233000
DTSTAMP:20260419T162611
CREATED:20190829T022213Z
LAST-MODIFIED:20190829T022520Z
UID:4804-1568487600-1568503800@uptownnightclub.com
SUMMARY:Radbiker Artshow
DESCRIPTION:Radbiker Artshow \nwith \nWestern Addiction\nMacko\nTV.STATIC\nC.H.U.T.
URL:https://uptownnightclub.com/event/radbiker-artshow/
LOCATION:The Uptown Nightclub\, 1928 Telegraph Ave \, Oakland\, CA\, 94612\, United States
CATEGORIES:Art,Punk,Rock n roll
ATTACH;FMTTYPE=image/png:https://uptownnightclub.com/wp-content/uploads/2019/08/Screen-Shot-2019-08-28-at-7.21.04-PM.png
END:VEVENT
BEGIN:VEVENT
DTSTART;TZID=America/Los_Angeles:20190915T190000
DTEND;TZID=America/Los_Angeles:20190915T230000
DTSTAMP:20260419T162611
CREATED:20190829T023255Z
LAST-MODIFIED:20190906T021535Z
UID:4808-1568574000-1568588400@uptownnightclub.com
SUMMARY:Reverie and Gavlyn\, the Heart N Hustle Tour
DESCRIPTION:Indie Hip-Hop trailblazers\, Reverie and Gavlyn\, unite to bring you the #HeartNHustleTour.\nFeaturing support by DJ Dubplates\, Sage One The Wise & J.R.O.D.\, Versoul and more!\n—\n21+ with valid ID\nThe Uptown is located just around the corner from the 19th Street BART Station and is wheelchair accessible
URL:https://uptownnightclub.com/event/reverie-gavlyn-heart-n-hustle-tour/
LOCATION:The Uptown Nightclub\, 1928 Telegraph Ave \, Oakland\, CA\, 94612\, United States
CATEGORIES:DJ,Hip Hop,Live Performance,R&B
ATTACH;FMTTYPE=image/png:https://uptownnightclub.com/wp-content/uploads/2019/08/Screen-Shot-2019-08-28-at-7.31.43-PM.png
END:VEVENT
BEGIN:VEVENT
DTSTART;TZID=America/Los_Angeles:20190917T203000
DTEND;TZID=America/Los_Angeles:20190917T223000
DTSTAMP:20260419T162611
CREATED:20190823T174301Z
LAST-MODIFIED:20190823T174301Z
UID:4793-1568752200-1568759400@uptownnightclub.com
SUMMARY:Chelle! and Friends
DESCRIPTION:Ask 20 people how to define the music of New Orleans andyou’ll get 30 answers. It could be jazz\, funk\, soul\, Creole\,Cajun\, or gospel\, Caribbean\, African\, Zydeco\, rock or the chants and stirring rhythms of Mardi Gras Indians. \nNew Orleans native\, and Oakland’s own “Queen of New Orleans Music”\, MICHELLE JACQUES along some “very special friends” take all of these influences and a few more\, and stir it into this stewpot of musical gumbo that is sweet\, spicy\, aromatic and definitely intoxicating. \nCHELLE! and Friends is made up of some of the most distinguished and accomplished musicians in the San Francisco Bay Area. CHELLE! And Friends perform music that is vibrant and alive with the driving voices of artistic director and founder\, Oakland’s “Queen of New Orleans Music” MICHELLE JACQUES\, RHONDA CRANE\, JAY LAMONT and BRYAN DYER\, DONNA VISCUSO and ERIC SWINDERMAN on guitar\, KEVIN SCOTT on bass and MICHAELLE GOERLITZ on drums. \n21+ with valid ID \nThe Uptown is just around the corner from the 19th Streeet BART Station and is wheelchair accessible
URL:https://uptownnightclub.com/event/chelle-and-friends/
LOCATION:The Uptown Nightclub\, 1928 Telegraph Ave \, Oakland\, CA\, 94612\, United States
CATEGORIES:Jazz,World Music
ATTACH;FMTTYPE=image/png:https://uptownnightclub.com/wp-content/uploads/2019/08/Screen-Shot-2019-08-23-at-10.41.43-AM.png
END:VEVENT
BEGIN:VEVENT
DTSTART;TZID=America/Los_Angeles:20190918T200000
DTEND;TZID=America/Los_Angeles:20190918T233000
DTSTAMP:20260419T162611
CREATED:20190410T065641Z
LAST-MODIFIED:20190820T200844Z
UID:4361-1568836800-1568849400@uptownnightclub.com
SUMMARY:Black Flag |||| - SOLD OUT
DESCRIPTION:BLACK FLAG is an American band formed in 1976 in Hermosa Beach\, CA by guitarist\, primary songwriter\, and sole continuous member Greg Ginn. Their discography includes seven studio albums and two live albums. The band has released all of their material on Ginn’s independent label\, SST Records beginning with 1981’s Damaged. Vocalist\, Mike Vallely\, first sang with the band as a guest vocalist in 2003\, before becoming the band’s fifth vocalist and touring with the band in 2014. \nBLACK FLAG is currently recording new material for a future studio release and will be touring in the Summer of 2019 on their 2019 SUMMER TOUR. \n+ Special Guests: The Linecutters) \n$25 advance | $30 at the door \n21+ w/valid ID
URL:https://uptownnightclub.com/event/black-flag/
LOCATION:The Uptown Nightclub\, 1928 Telegraph Ave \, Oakland\, CA\, 94612\, United States
CATEGORIES:Concerts,Live Performance,Metal,Punk
ATTACH;FMTTYPE=image/jpeg:https://uptownnightclub.com/wp-content/uploads/2019/04/black-flag-logo.jpg
END:VEVENT
BEGIN:VEVENT
DTSTART;TZID=America/Los_Angeles:20190919T193000
DTEND;TZID=America/Los_Angeles:20190919T213000
DTSTAMP:20260419T162611
CREATED:20190906T020538Z
LAST-MODIFIED:20190906T020608Z
UID:4840-1568921400-1568928600@uptownnightclub.com
SUMMARY:The Town Experience Biz Mixer + Town Hall
DESCRIPTION:Event Program:\nMeet the members of the 2019 Oakland Hospitality Committee\nPresentation + Q&A about The Town Experience weekend of events\nNetworking opportunities\nBusinesses and volunteers that would like to participate in The Town Experience\, can sign up at the event. \nEvent Description:\nThe Town Experience is taking place November 6-10 2019 in historic Downtown Oakland as a complement to the annual Afrotech conference (expected to attract 6\,000 – 10\,000 attendees). \nWe are identifying businesses that share our goal of putting Oakland’s best foot forward for the influx of visitors during The Town Experience weekend. Like-minded businesses that desire to see a more vibrant city interested in partnering with us in The Town Experience marketing campaign\, a multimedia guide to Oakland that is being created by local taste-makers working with the city of Oakland and tourism departments. Participating in The Town Experience is an opportunity for local businesses to increase sales by drawing conference-goers and tourists to their locations. \nIf this sounds like YOU. We highly encourage you to attend! \nRSVP TO RECEIVE TTE EVENT PACKET & APPLICATION PRIOR TO THE EVENT!\n@ TicketDM: https://www.ticketdm.com/the-town-experience-business-mixer-town-hall/ \nFollow us on social media\nIG @TheTownExperience\nFacebook @TheTownExperience
URL:https://uptownnightclub.com/event/town-experience-biz-mixer-town-hall/
LOCATION:The Uptown Nightclub\, 1928 Telegraph Ave \, Oakland\, CA\, 94612\, United States
ATTACH;FMTTYPE=image/png:https://uptownnightclub.com/wp-content/uploads/2019/09/Screen-Shot-2019-09-05-at-7.04.42-PM.png
END:VEVENT
BEGIN:VEVENT
DTSTART;TZID=America/Los_Angeles:20190920T210000
DTEND;TZID=America/Los_Angeles:20190921T013000
DTSTAMP:20260419T162611
CREATED:20190814T030542Z
LAST-MODIFIED:20190913T023533Z
UID:4775-1569013200-1569029400@uptownnightclub.com
SUMMARY:CB's Birthday Celebration w/ the Mofessionals and Luv Phenomena
DESCRIPTION:Birthday celebration for Chris Burger of hip hop / funk-soul outfits Mo’fessionals and Luv Phenomena\, both of whom will be performing. Plus nationally recognized hip hop DJ Davey D. \nShaken Not Slurred mocktail menu available. \n21+ with valid ID \nThe Uptown is located just around the corner from the 19th Street BART station and is wheelchair accessible
URL:https://uptownnightclub.com/event/cbs-birthday-celebration-w-mofessionals-luv-phenomena/
LOCATION:The Uptown Nightclub\, 1928 Telegraph Ave \, Oakland\, CA\, 94612\, United States
CATEGORIES:DJ,Funk,Hip Hop
ATTACH;FMTTYPE=image/png:https://uptownnightclub.com/wp-content/uploads/2019/08/Screen-Shot-2019-09-12-at-7.33.34-PM.png
END:VEVENT
BEGIN:VEVENT
DTSTART;TZID=America/Los_Angeles:20190921T170000
DTEND;TZID=America/Los_Angeles:20190921T200000
DTSTAMP:20260419T162611
CREATED:20190221T042238Z
LAST-MODIFIED:20190906T232449Z
UID:4241-1569085200-1569096000@uptownnightclub.com
SUMMARY:1UPtown: Aliens
DESCRIPTION:Calling all retro gamers! Every 3rd Saturday 5-8 we are host to 1UPtown\, a night of movies and games. \nWith THE TERMINATOR yet to be released\, James Cameron was still an unknown quantity when he was handed the keys to the ALIEN franchise. The end result\, ALIENS\, redefined what a sequel could be as well as the blockbuster in general. Join us at the Uptown Nightclub to witness the birth of one of cinema’s greatest action heroes (not to mention one of cinema’s most iconic villains)\, all while playing the console games that the film inspired. \n—– \n1UPtown is presented by the Museum of Art and Digital Entertainment (MADE)\, lewtonbus.net and the Uptown Nightclub. A portion of the bar goes to benefit the museum\, so drink up with a clear conscience while blowing xenomorphs away with the M41A Pulse Rifle. Just stay clear of the acid blood. \n—– \n21+ with valid ID \nThe Uptown is located just around the corner from the 19th Street BART Station and is wheelchair accessible.
URL:https://uptownnightclub.com/event/1uptown-street-fighter/
LOCATION:The Uptown Nightclub\, 1928 Telegraph Ave \, Oakland\, CA\, 94612\, United States
ATTACH;FMTTYPE=image/png:https://uptownnightclub.com/wp-content/uploads/2019/02/Screen-Shot-2019-09-05-at-7.09.55-PM.png
END:VEVENT
BEGIN:VEVENT
DTSTART;TZID=America/Los_Angeles:20190922T180000
DTEND;TZID=America/Los_Angeles:20190923T000000
DTSTAMP:20260419T162611
CREATED:20190906T022439Z
LAST-MODIFIED:20190906T022440Z
UID:4847-1569175200-1569196800@uptownnightclub.com
SUMMARY:It Was A Movie Music Video Film Festival
DESCRIPTION:TICKETS \n$10 – $15 \nWe’re back at it again\, and this time\, in a Major way! Bay Area Rapper UnLearn The World and Hip Hop TV are partnering with the 17th Oakland International Film Festival to present the iWAMs It Was A Movie Music Video Film Festival powered by Gaugr.com \nThe iWAMs is a one of a kind film screening\, talent showcase\, and award ceremony event all in one powerful night! We are proud to create an exciting space for emerging Hip Hop talent to get exposure and generate interest in their artistry and brand by screening their latest music videos for a crowd of fans\, fellow artists and industry taste makers alike. \nThanks to key partnerships in the worlds of entertainment and tech\, What started as The Bay Area Hip Hop Music Video Film Festival back in 2016 has now expanded into a national and international platform\, seamlessly blending the worlds of Hip Hop culture\, music and film . The evening begins with a red carpet entrance and DJ\, then continues with live performances and music video/short film premiers\, ultimately culminating in artists and directors being awarded in three categories; \n-Captivating Visuals\n-Compelling Story and\n-Groundbreaking \nvoted on via the Gaugr.com app by our celebrity “world stage” panel\, the live audience and event viewers tuning in via Hip Hop TV live stream. Artists are interviewed briefly before their video plays\, then are given feedback and insight from music/film industry movers and shakers.
URL:https://uptownnightclub.com/event/movie-music-video-film-festival/
LOCATION:The Uptown Nightclub\, 1928 Telegraph Ave \, Oakland\, CA\, 94612\, United States
CATEGORIES:Hip Hop
ATTACH;FMTTYPE=image/png:https://uptownnightclub.com/wp-content/uploads/2019/09/Screen-Shot-2019-09-05-at-7.24.01-PM.png
END:VEVENT
BEGIN:VEVENT
DTSTART;TZID=America/Los_Angeles:20190924T210000
DTEND;TZID=America/Los_Angeles:20190925T010000
DTSTAMP:20260419T162611
CREATED:20190701T033006Z
LAST-MODIFIED:20190906T022829Z
UID:4661-1569358800-1569373200@uptownnightclub.com
SUMMARY:Death Guild Presents: Hocico (Mexico)\, Xorcist\, Suicide Queen
DESCRIPTION:Tuesday\, September 24 \nHOCICO \nMexico City electro-industrial duo Hocico was officially formed in 1993 by Erk Aicrag (Erik Garcia\, vocals) and Racso Agroyam (Oscar Mayorga\, programming). They began experimenting with electronic music and mixing industrial and EBM when they were 15 years old. Given the influence of varying currents of electronic music (mainly Skinny Puppy)\, they began their trajectory in 1989 in a project called “Niñera Degenerada”. Their lyrics are in both Spanish and English. The Spanish word hocico means snout\, and is used in Mexico as a disrespectful way to describe someone’s comments coming out of their mouth.
URL:https://uptownnightclub.com/event/hocico/
LOCATION:The Uptown Nightclub\, 1928 Telegraph Ave \, Oakland\, CA\, 94612\, United States
CATEGORIES:Goth,Live Performance,Post-Punk
ATTACH;FMTTYPE=image/png:https://uptownnightclub.com/wp-content/uploads/2018/09/Screen-Shot-2018-09-10-at-9.34.02-PM.png
END:VEVENT
BEGIN:VEVENT
DTSTART;TZID=America/Los_Angeles:20190926T200000
DTEND;TZID=America/Los_Angeles:20190926T200000
DTSTAMP:20260419T162611
CREATED:20190823T173139Z
LAST-MODIFIED:20190823T180358Z
UID:4790-1569528000-1569528000@uptownnightclub.com
SUMMARY:Salami Rose Joe Louis (Album Release Show)
DESCRIPTION:Thursday Sept 26 \nSmart Bomb Presents: \nSalami Rose Joe Louis (Album Release Show) \nCheflee \nLealani \n*** Advance Tickets are available ((( HERE ))) *** \n$10 Adv | $15 At the door \nDoors at 8pm | Show at 9pm \nThis is the record release show for Salami Rose Joe Louis’ highly anticipated LP\, ZDENKA 2080\, due out August 30th on Brainfeeder Records. Salami Rose Joe Louis Ensemble will perform the new album in its entirety. \nWith opening live sets by Oakland rising force CHEFLEE as well as Los Angeles alien queen LEALANI blasting us off into the deepest reaches. \nThe astral projections of FLATSPOT will fill the space with live visuals\, with DJs THREE6SASHIA and MIZU playing records between sets. \n+ community pop up shop NOSEI & FRIENDS curated by our friend ANDREW KODAMA. \n$10 presale | $15 door \n21+ | wheelchair accessible \nThe Uptown Nightclub \n1928 Telegraph Avenue\, Oakland
URL:https://uptownnightclub.com/event/salami-rose-joe-louis-album-release-show/
LOCATION:The Uptown Nightclub\, 1928 Telegraph Ave \, Oakland\, CA\, 94612\, United States
CATEGORIES:Folk,Indie,Live Performance,Singer songwriter,Synth Pop
ATTACH;FMTTYPE=image/jpeg:https://uptownnightclub.com/wp-content/uploads/2019/08/67067164_2456434227911417_4394088058790608896_n.jpg
END:VEVENT
BEGIN:VEVENT
DTSTART;TZID=America/Los_Angeles:20190927T200000
DTEND;TZID=America/Los_Angeles:20190927T233000
DTSTAMP:20260419T162611
CREATED:20190829T024339Z
LAST-MODIFIED:20190829T024339Z
UID:4811-1569614400-1569627000@uptownnightclub.com
SUMMARY:Rabbit Quinn\, Kali-Ra\, Victoria & The Vaudevillains\, and more
DESCRIPTION:Rabbit Quinn\nSan Francisco-based pianist\, vocalist and songwriter Rabbit Quinn crafts otherworldly fables reminiscent of unconventional piano rock storytellers such as Kate Bush\, Nina Simone\, Tom Waits and Tori Amos. History\, myth and literature transform Quinn’s footprints into compositions which are delicate\, dark and romantic. \nVictoria and the Vaudevillains\nNot your ordinary band\, Victoria and the Vaudevillains is visually stunning performance art. Fronted by Victoria Victrola\, the Vaudevillains’ punk cabaret sound ranges from soft and pretty to clanging\, banging piano rock. Dancers and living statues create an atmosphere of a twisted burlesque carnival….with ZOMBIES. \nCaroline Blind\nCaroline is taking her own Sunshine Blind songs\, and a selection of cover songs from every genre\, slowing them down\, molding them into haunting snapshots\, using her powerful voice to bring out the lyrics and the meanings\, and uncovering the the treasures within… a new and very intimate collection for your listening pleasure…. \nKali-Ra\nGlamorous\, amorous\, stranger than strange. A band? \nSword Tongue\nDark music for dark times. Melodic and deep\, soulful and strange. \n– – – \n21+ with valid ID \nThe Uptown is located just around the corner from the 19th Street BART Station and is Wheel Chair accessible
URL:https://uptownnightclub.com/event/rabbit-quinn-kali-ra-victoria-vaudevillains/
LOCATION:The Uptown Nightclub\, 1928 Telegraph Ave \, Oakland\, CA\, 94612\, United States
CATEGORIES:Avant Garde,Halloween,Live Performance,Singer songwriter
ATTACH;FMTTYPE=image/png:https://uptownnightclub.com/wp-content/uploads/2019/08/Screen-Shot-2019-08-28-at-7.42.57-PM.png
END:VEVENT
BEGIN:VEVENT
DTSTART;TZID=America/Los_Angeles:20190928T150000
DTEND;TZID=America/Los_Angeles:20190929T233000
DTSTAMP:20260419T162611
CREATED:20190723T000352Z
LAST-MODIFIED:20190829T012259Z
UID:4729-1569682800-1569799800@uptownnightclub.com
SUMMARY:Holiday On The Moon Festival 2019
DESCRIPTION:The Holiday On the Moon Festival 2019 will be a 2-day psychedelic/stoner/garage rock extravaganza at Oakland’s gorgeous The UPTOWN nightclub\, with performances by: \nDEAD MEADOW \nSPINDRIFT \nEveryone Is Dirty\nDown Dirty Shake\nThe Love Dimension\nThe Spiral Electric\nPets (the band)\nsilent pictures\nFake Your Own Death\nCoywolf\nChief SF\nThe Pleasure Routine\nFloored Faces\nThe Green Door\nTom Meade\nCalifornia Raga Association\n+ Headliners TBA \nLight projections– \nMad Alchemy\nWhite Light Prism\nAstra mori\nNew Oscillations \nThe headliners will be announced in the coming weeks! \n“Boarding Passes” for the full weekend of entertainment– Over 20 performers and DJs\, four rooms of fun (including a smoking patio!)\, light sculptures\, costumes\, contests\, and other surprises– are only $45 each\, on Eventbrite \n“Having such a wonderful time…” \nGrab your passes fast! \n\n\n———–\n21+ with valid ID \nThe Uptown is located just around the corner form the 19th Street BART station and is wheelchair accessible
URL:https://uptownnightclub.com/event/holiday-moon-festival-2019/
LOCATION:The Uptown Nightclub\, 1928 Telegraph Ave \, Oakland\, CA\, 94612\, United States
CATEGORIES:Garage Rock,Live Performance,Psych Rock
ATTACH;FMTTYPE=image/png:https://uptownnightclub.com/wp-content/uploads/2019/07/Screen-Shot-2019-07-22-at-5.07.38-PM.png
END:VEVENT
END:VCALENDAR