BEGIN:VCALENDAR
VERSION:2.0
PRODID:-//Uptown Nightclub - ECPv6.15.20//NONSGML v1.0//EN
CALSCALE:GREGORIAN
METHOD:PUBLISH
X-WR-CALNAME:Uptown Nightclub
X-ORIGINAL-URL:https://uptownnightclub.com
X-WR-CALDESC:Events for Uptown Nightclub
REFRESH-INTERVAL;VALUE=DURATION:PT1H
X-Robots-Tag:noindex
X-PUBLISHED-TTL:PT1H
BEGIN:VTIMEZONE
TZID:America/Los_Angeles
BEGIN:DAYLIGHT
TZOFFSETFROM:-0800
TZOFFSETTO:-0700
TZNAME:PDT
DTSTART:20180311T100000
END:DAYLIGHT
BEGIN:STANDARD
TZOFFSETFROM:-0700
TZOFFSETTO:-0800
TZNAME:PST
DTSTART:20181104T090000
END:STANDARD
BEGIN:DAYLIGHT
TZOFFSETFROM:-0800
TZOFFSETTO:-0700
TZNAME:PDT
DTSTART:20190310T100000
END:DAYLIGHT
BEGIN:STANDARD
TZOFFSETFROM:-0700
TZOFFSETTO:-0800
TZNAME:PST
DTSTART:20191103T090000
END:STANDARD
BEGIN:DAYLIGHT
TZOFFSETFROM:-0800
TZOFFSETTO:-0700
TZNAME:PDT
DTSTART:20200308T100000
END:DAYLIGHT
BEGIN:STANDARD
TZOFFSETFROM:-0700
TZOFFSETTO:-0800
TZNAME:PST
DTSTART:20201101T090000
END:STANDARD
END:VTIMEZONE
BEGIN:VEVENT
DTSTART;TZID=America/Los_Angeles:20191001T210000
DTEND;TZID=America/Los_Angeles:20191001T233000
DTSTAMP:20260419T143930
CREATED:20190929T171413Z
LAST-MODIFIED:20190929T171413Z
UID:4946-1569963600-1569972600@uptownnightclub.com
SUMMARY:Karaoke Night - Tuesday Edition
DESCRIPTION:This week only\, Karaoke Night at The Uptown is moving from Wednesday to Tuesday. \n  \nPlease come sing your pretty little hearts out. We’ll love you forever. \n  \n 
URL:https://uptownnightclub.com/event/karaoke-night-tuesday-edition/
LOCATION:The Uptown Nightclub\, 1928 Telegraph Ave \, Oakland\, CA\, 94612\, United States
CATEGORIES:Karaoke
ATTACH;FMTTYPE=image/jpeg:https://uptownnightclub.com/wp-content/uploads/2019/09/Unknown.jpeg
END:VEVENT
BEGIN:VEVENT
DTSTART;TZID=America/Los_Angeles:20191003T200000
DTEND;TZID=America/Los_Angeles:20191003T230000
DTSTAMP:20260419T143930
CREATED:20190906T023557Z
LAST-MODIFIED:20190921T195413Z
UID:4851-1570132800-1570143600@uptownnightclub.com
SUMMARY:Jimbo Mathus (Squirrel Nut Zippers)\, The Muddy Roses
DESCRIPTION:Jimbo Mathus has blazed a singular path as a singer\, songwriter\, guitarist\, producer and shaman for 40 years\, recording and releasing more than 300 songs that are a testament to his hoodoo craftsmanship and to the sounds\, sights and spirits of his inspirations in the deep South.​ ​​His new album\, Incinerator\, via Mississippi’s Big Legal Mess Records\, is the epitome of that art — an incendiary reflection of his world in music.\nMathus describes the 11 songs on Incinerator as “a huge tapestry of my experiences\, hard work and dedication to living a creative life. I really took stock of what I do and why I do it … why I weave stories and dreams and visions I have into songs. And I tried to squeeze every bit of meaning out of every note and every word I wrote and recorded. It’s impossible to separate this album from me. This is who I am.”\n​F​eaturing Matt Patton\, bassist of Drive By Truckers \nThe Muddy Roses’s sound is a beautiful balance of grit and grace that’s been captivating audiences around the San Francisco Bay. \nThe rich\, velvety soul of vocal bombshell Liz Lewis (West Virginia) and the band\, led by guitarist and songwriter John LoGiudici\, infuse destined-to-be-classic country and Americana originals with elements of blues\, bluegrass\, gospel\, and jam to create a unique and dynamic sound. Fiddle player Diana Greenberg and banjoist/pedal steel master Andrew Waegel launch sonic trips to the front porch and the honky-tonk bar\, while veteran Bay Area musicians Rob MacCloskey on bass and Rob Davis on drums keep the train running.\n— \n21+ with valid ID \nThe Uptown is located just around the corner from the 19th Street BART Station and is wheelchair accessible
URL:https://uptownnightclub.com/event/jimbo-mathus-incinerator/
LOCATION:The Uptown Nightclub\, 1928 Telegraph Ave \, Oakland\, CA\, 94612\, United States
CATEGORIES:Americana,Blues,Indie,Live Performance
ATTACH;FMTTYPE=image/png:https://uptownnightclub.com/wp-content/uploads/2019/09/Screen-Shot-2019-09-05-at-7.31.24-PM.png
END:VEVENT
BEGIN:VEVENT
DTSTART;TZID=America/Los_Angeles:20191004T210000
DTEND;TZID=America/Los_Angeles:20191005T013000
DTSTAMP:20260419T143930
CREATED:20190209T064909Z
LAST-MODIFIED:20190922T070535Z
UID:4180-1570222800-1570239000@uptownnightclub.com
SUMMARY:Suavecito Souldies
DESCRIPTION:Friday\, October 4 \n9pm \nFree First Fridays with Suavecito Souldies \nTuff brings you another night filled with the sounds of lowrider oldies\, Nothern Soul\, and sweet soul. \nFree Entry \n21+
URL:https://uptownnightclub.com/event/suavecito-souldies/
LOCATION:The Uptown Nightclub\, 1928 Telegraph Ave \, Oakland\, CA\, 94612\, United States
CATEGORIES:DJ,First Friday,Free events,Oldies,Soul
ATTACH;FMTTYPE=image/png:https://uptownnightclub.com/wp-content/uploads/2019/02/Screen-Shot-2019-09-22-at-12.04.39-AM.png
END:VEVENT
BEGIN:VEVENT
DTSTART;TZID=America/Los_Angeles:20191006T200000
DTEND;TZID=America/Los_Angeles:20191007T013000
DTSTAMP:20260419T143930
CREATED:20190906T043233Z
LAST-MODIFIED:20190906T043436Z
UID:4855-1570392000-1570411800@uptownnightclub.com
SUMMARY:Death Guild Presents: Psyclon Nine\, Striplicker
DESCRIPTION:Sunday\, October 6 \n8pm \nThe Psyclon Nine RuinaTWOur lineup will be:\nTim Skold (guitars)\nRotny Ford (bass/synth)\nJon Siren (drums)\nAnd Nero Bellum (sermons) \nThe RuinaTWOur will also coincide with an extremely limited edition reissue of We The Fallen on a double gatefold vinyl. Remastered with a plethora of bonus material! Pick one up at the merch table. \nwith special guests: Striplicker\, Justin Symbol\, and DJ Decay \n$15 advance | $20 at the door \ndoors 8p | show 9p \n– – – \n21+ with valid ID \nThe Uptown is located just around the corner from the 19th Street BART Station and is wheelchair accessible
URL:https://uptownnightclub.com/event/death-guild-presents-psyclon-nine/
LOCATION:The Uptown Nightclub\, 1928 Telegraph Ave \, Oakland\, CA\, 94612\, United States
ATTACH;FMTTYPE=image/jpeg:https://uptownnightclub.com/wp-content/uploads/2019/09/23622356_2061308624102129_699411147635313354_n.jpg
END:VEVENT
BEGIN:VEVENT
DTSTART;TZID=America/Los_Angeles:20191012T130000
DTEND;TZID=America/Los_Angeles:20191012T180000
DTSTAMP:20260419T143930
CREATED:20191012T160004Z
LAST-MODIFIED:20191012T160318Z
UID:4972-1570885200-1570903200@uptownnightclub.com
SUMMARY:Complexion - The Future Beats Show - Oakland Day Party
DESCRIPTION:Calling all Future Beats Space Cadets! DJ Complexion will be live and direct in Oakland on 10/12. \nJoin us on the patio of the Uptown if you’re down for an intimate journey through space\, time\, and nostalgia drenched futuristic beats from the Golden Era of Soundcloud. This limited capacity showcase will feature fellow cosmonauts/Bay Area DJs\, dreamy live art from local artists\, and all of YOU future loving connoisseurs — all brought together for the love of the music. \nAdvanced tickets are highly encouraged to secure your spot on the spaceship. \nComplexion – TFBS\, London \n \nSupport (A-Z) \nArumi\, Oakland https://soundcloud.com/aarumi \nInstant Vintage\, Bay Area https://soundcloud.com/instantvintage \nJackson Waites https://soundcloud.com/jackson-waites \nLil Waifu https://soundcloud.com/lilwaifuu \nRoevicious https://soundcloud.com/roevicious \nArt (A-Z) \nABSTRAKB https://www.instagram.com/abstrak_b \nBESAME https://levanguard.art/ \nCAMILLE https://www.instagram.com/camille.the.creative \nRIYA \nSURE https://sureyoumust.weebly.com/ \nYERRIE CHOO https://www.yerriechoo.com/ \n– – – \n21+ with valid ID \nThe Uptown is located just around the corner from the 19th Street BART Station and is wheelchair accessible
URL:https://uptownnightclub.com/event/complexion-the-future-beats-show-oakland-day-party/
LOCATION:The Uptown Nightclub\, 1928 Telegraph Ave \, Oakland\, CA\, 94612\, United States
ATTACH;FMTTYPE=image/png:https://uptownnightclub.com/wp-content/uploads/2019/10/Screen-Shot-2019-10-12-at-8.59.21-AM.png
END:VEVENT
BEGIN:VEVENT
DTSTART;TZID=America/Los_Angeles:20191012T200000
DTEND;TZID=America/Los_Angeles:20191013T003000
DTSTAMP:20260419T143930
CREATED:20190906T233811Z
LAST-MODIFIED:20191002T231204Z
UID:4863-1570910400-1570926600@uptownnightclub.com
SUMMARY:The Surfaris\, The Greasy Gills
DESCRIPTION:Saturday\, October 12\nDoors 8pm \nThe single-most famous surf tune of all time is “Wipe Out” by the Surfaris. With its wicked laugh\, cutting lead guitar\, and drum solos\, the song spent four months on the Billboard charts. Along with “Surfer Joe” and “Point Panic” The Surfaris solidified themselves as the leaders of surf music in the mid ’60s. \nThe Surfaris were close friends and contemporaries of the late great Dick Dale\, regarded as the pioneer of the surf guitar. Dick Dale had performed sold out shows at The Uptown on eight separate occasions. He had become a friend to us all\, and we miss him dearly. So in memory of Dick\, The Uptown presents The Surfaris for one night only. Join us in welcoming this genre defining band to Oakland for the first time. \nAlso performing will be Oakland’s reverb-drenched instrumental surf trio\, The Greasy Gills. They self-released their debut cassette\, Bodega Boys\, in 2018. And this August\, Hi-Tide Recordings released The Spring Collection EP\, The Greasy Gills’ 4-track 7″ record. \n21+ / wheelchair accessible \nThe Uptown\n1928 Telegraph Avenue\, Oakland\none block from 19th street BART station \nTHE SURFARIS  \nTHE GREASY GILLS  \n 
URL:https://uptownnightclub.com/event/the-surfaris/
LOCATION:The Uptown Nightclub\, 1928 Telegraph Ave \, Oakland\, CA\, 94612\, United States
CATEGORIES:Surf
ATTACH;FMTTYPE=image/png:https://uptownnightclub.com/wp-content/uploads/2019/09/Screen-Shot-2019-10-02-at-3.57.03-PM.png
END:VEVENT
BEGIN:VEVENT
DTSTART;TZID=America/Los_Angeles:20191013T190000
DTEND;TZID=America/Los_Angeles:20191013T223000
DTSTAMP:20260419T143930
CREATED:20190906T234814Z
LAST-MODIFIED:20190926T181645Z
UID:4867-1570993200-1571005800@uptownnightclub.com
SUMMARY:Trevor Dunn | Phillip Greenlief | Scott Amendola Trio
DESCRIPTION:Phillip Greenlief (woodwinds) | Trevor Dunn (contrabass) | Scott Amendola (drums/electronics/percussion) \nScott Amendola (drums\, electronics)\, Trevor Dunn (contrabass) and Phillip Greenlief (woodwinds) have a collective and individual history that spans three decades and many continents. They have recorded as acclaimed duo records and performed up and down the west coast as a trio. While the members have been active in pairs in numerous ensembles\, this is their first set of performances as a trio in nearly 20 years. Their approach to free improvisation is to explore the many genres of music they are known for\, which spans rock\, metal\, funk\, jazz\, post-classical and film music. Expect the level of excitement to be high – these musicians are ecstatic to be working together again as a unit and are ready to deliver that joy to their audiences. \nPhillip Greenlief – Since his emergence on the west coast in the late 1970s\, Evander Music founder and saxophonist Phillip Greenlief has achieved international critical acclaim for his recordings and performances with musicians and composers in the post-jazz continuum as well as new music innovators and virtuosic improvisers. He has performed and recorded with Wadada Leo Smith\, Meredith Monk\, Rashaun Mitchell and They Might Be Giants; albums include THAT OVERT DESIRE OF OBJECT with Joelle Leandre\, and ALL AT ONCE with FPR (Frank Gratkowski\, Jon Raskin\, PG). Now celebrating the release of LANTSKAP LOGIC with Fred Frith and Evelyn Davis on Clean Feed (2019). Recent residencies have included Headlands Center for the Arts and the Banff Center for the Arts. His critical writing has been published in Artforum\, SFMOMA’s OPEN SPACE\, and Signal to Noise. \nTrevor Dunn – hails from Eureka\, California. The son of a mother and father. At an early age Mr. Dunn found himself playing clarinet. Thank the lord he found the bass. Once he realized there was no clarinet player in Kiss\, he permanently relocated his musical endeavors to the bass guitar\, which eventually lead to the stand-up bass. He leads various bands: from the effervescent “Trio Convulsant”\, to the angular-pop/rock of “Madlove”. He’s a co-founding member of the confounding “Mr. Bungle”\, and has been seen many times around the globe with the various ensembles of Mr. John Zorn. Trevor has also been caught bowling with “The Melvins”. \nScott Amendola – was born in Englewood\, New Jersey. Studied at Berklee college of music\, and lives in the bay area. He composed a symphony called “Fade To Orange” which features Mr. Dunn\, and guitarist Nels cline (with whom he’s played music with since the mid 90’s\, and is a member of “The Nels Cline Singers” along with Trevor). As a sideman\, Amendola has performed and recorded with a vast\, stylistically varied roster of artists\, including Bill Frisell\, John Zorn\, Mike Patton\, Mondo Cane\, John Scofield\, Cibo Matto\, John Dieterich from Deerhoof\, Wadada Leo Smith\, Bruce Cockburn\, Madeleine Peyroux\, Joan Osborne\, Jacky Terrasson\, Shweta Jhaveri\, Phil Lesh\, Sex Mob\, Kelly Joe Phelps\, Larry Klein\, Carla Bozulich\, Wayne Horvitz\, Johnny Griffin\, Julian Priester\, Sonny Simmons\, Pat Martino\, Jim Campilongo\, Bobby Black\, Larry Goldings\, Paul McCandless\, Rebecca Pidgeon\, and the Joe Goode Dance Group. \ndoors at 7p | show at 8p \n21+ with valid ID \nThe Uptown is located just around the corner from the 19th Street BART Station and is wheelchair accessible
URL:https://uptownnightclub.com/event/trevor-dunn-phillip-greenlief-scott-amendola-trio/
LOCATION:The Uptown Nightclub\, 1928 Telegraph Ave \, Oakland\, CA\, 94612\, United States
CATEGORIES:Avant Garde,Experimental,Jazz,Live Performance
ATTACH;FMTTYPE=image/png:https://uptownnightclub.com/wp-content/uploads/2019/09/Screen-Shot-2019-09-06-at-4.46.33-PM.png
END:VEVENT
BEGIN:VEVENT
DTSTART;TZID=America/Los_Angeles:20191019T210000
DTEND;TZID=America/Los_Angeles:20191020T020000
DTSTAMP:20260419T143930
CREATED:20181110T071220Z
LAST-MODIFIED:20191020T064743Z
UID:3831-1571518800-1571536800@uptownnightclub.com
SUMMARY:Hella Gay Hellaween
DESCRIPTION:Let’s get weird! \nIt’s that time baby! Let’s have a costume party!\nSpooky or sexy\, funny or freaky\, or all of the above.\nLet your creativity shine! \nDETAILS:\nAdvance tickets online: $7\nDoors: Free until 9:30pm\, $10 after 9:30pm \nYour DJs: \nGrey Wolf // GSTAR\nhttps://soundcloud.com/gstar-1 \nDjkar Bear\nhttps://soundcloud.com/dj-kar-bear \n& \nBee\nhttps://soundcloud.com/hellagay_balthazar \nAND:\nNajee Rene (aka Casino) will be offering Tarot! \nALSO: Two Chicks in the Mix will be sharing their delicious handmade treats! \nPhotographer to be announced!\n————————————————-\nAccessibility info:\n21+ with/ID \nThe main bar and dance space are wheelchair accessible\, including most of the back patio and the bathrooms. The stage is only accessible by stairs. \n** Dancing on the stage is fine but please do not dance on the stairs. We don’t anyone to get hurt. Thank you! **
URL:https://uptownnightclub.com/event/hella-gay-scorpio-smash/
LOCATION:The Uptown Nightclub\, 1928 Telegraph Ave \, Oakland\, CA\, 94612\, United States
CATEGORIES:Dance Party,DJ,Hella Gay
ATTACH;FMTTYPE=image/png:https://uptownnightclub.com/wp-content/uploads/2018/11/Screen-Shot-2019-10-19-at-11.46.51-PM.png
END:VEVENT
BEGIN:VEVENT
DTSTART;TZID=America/Los_Angeles:20191020T200000
DTEND;TZID=America/Los_Angeles:20191021T003000
DTSTAMP:20260419T143930
CREATED:20190927T013126Z
LAST-MODIFIED:20190927T013126Z
UID:4937-1571601600-1571617800@uptownnightclub.com
SUMMARY:iWAMs Music Video Film Festival
DESCRIPTION:The iWAMs is a one of a kind film screening\, talent showcase\, and award ceremony event all in one powerful night! We are proud to create an exciting space for emerging Hip Hop talent to get exposure and generate interest in their artistry and brand by screening their latest music videos for a crowd of fans\, fellow artists and industry taste makers alike. \nThanks to key partnerships in the worlds of entertainment and tech\, What started as The Bay Area Hip Hop Music Video Film Festival back in 2016 has now expanded into a national and international platform\, seamlessly blending the worlds of Hip Hop culture\, music and film . The evening begins with a red carpet entrance and DJ\, then continues with live performances and music video/short film premiers\, ultimately culminating in artists and directors being awarded in three categories; \n-Captivating Visuals\n-Compelling Story and\n-Groundbreaking \n((( TICKETS )))
URL:https://uptownnightclub.com/event/iwams-music-video-film-festival/
LOCATION:The Uptown Nightclub\, 1928 Telegraph Ave \, Oakland\, CA\, 94612\, United States
CATEGORIES:Hip Hop
ATTACH;FMTTYPE=image/png:https://uptownnightclub.com/wp-content/uploads/2019/09/Screen-Shot-2019-09-26-at-6.25.29-PM.png
END:VEVENT
BEGIN:VEVENT
DTSTART;TZID=America/Los_Angeles:20191024T200000
DTEND;TZID=America/Los_Angeles:20191025T013000
DTSTAMP:20260419T143930
CREATED:20190906T015711Z
LAST-MODIFIED:20190913T024220Z
UID:4836-1571947200-1571967000@uptownnightclub.com
SUMMARY:EEK! FEST!
DESCRIPTION:EEK! FEST! is a halloween horror show featuring bands\, drag performances\, vendors and horror shorts. Costumes encouraged! Come get spooky with us and ring in the halloween season! Bands include: \nCramp-ons (A Tribute to The Cramps)\nNine Inch Иail Polish (A tribute to Nine Inch Nails)\nand Pretty Frankenstein (CD Release show!) \nDrag Performance:\nDaniel Rodriguez\nMore TBA \nVendors:\nA Superhero Pop-Up Bakery (Serving up spooky treats)\nCreep Acrylics (Horror Pop Paintings)\nMore TBA \nDoors @ 8pm\n21+\nThe UPTOWN
URL:https://uptownnightclub.com/event/eek-fest/
LOCATION:The Uptown Nightclub\, 1928 Telegraph Ave \, Oakland\, CA\, 94612\, United States
CATEGORIES:Goth,Halloween,Live Performance,Rock n roll
ATTACH;FMTTYPE=image/png:https://uptownnightclub.com/wp-content/uploads/2019/09/Screen-Shot-2019-09-05-at-6.51.15-PM.png
END:VEVENT
BEGIN:VEVENT
DTSTART;TZID=America/Los_Angeles:20191025T210000
DTEND;TZID=America/Los_Angeles:20191026T013000
DTSTAMP:20260419T143930
CREATED:20190918T070520Z
LAST-MODIFIED:20191025T002041Z
UID:4882-1572037200-1572053400@uptownnightclub.com
SUMMARY:The Purple Ones - Halloween Crystal Ball\, Joker Edition
DESCRIPTION:On Friday October 25th join us for The Purple Ones’ 2nd Annual Halloween Crystal Ball – JOKER Edition\, as TPO turns Oakland\, CA into Gotham City! \nCome dressed as your favorite Prince\, Joker\, Batman\, etc. characters and Partyup at one of Oakland’s FUNKIEST venues\, The Uptown Nightclub. \nThere will be a contest for the most creative Batman inspired costumes\, so dress to impress! \n$20Adv/ $25 Day of Show \nDoors @ 9:00pm\nDJ Delon at 9:00pm\nThe Purple Ones at 10:00pm \nWEBSITES:\nhttp://www.purpleones.com\nhttps://uptownnightclub.com/ \nFACEBOOK:\nhttps://www.facebook.com/ThePurpleOnesPrinceTribute/ \nTWITTER:\nhttps://twitter.com/thepurpleonessf \nINSTAGRAM:\nhttps://www.instagram.com/purpleonessf/ \nAbout The Purple Ones… \nOakland California’s The Purple Ones treat the music and patented vibe of Prince’s legacy with the utmost respect. The musical dexterity of The Purple Ones – with 12 pieces on stage including a full horn section – delivers their own spin on Prince’s\n(and other Prince related artists such as The Revolution\, The New Power Generation\, Sheila E.\, Morris Day & The Time and the general Minneapolis Sound) live onstage in a way that has to be experienced to be believed. \nThe Purple Ones is a group of world-class musicians that carries out the Purple Legacy of the MUSIC. TPO is NOT a typical tribute band. There is no impersonator or look- a-like\, nor do they dress up in goofy costumes or wigs. \nThe Purple Ones bring audiences to their feet\, night after night\, by speaking Prince’s musical language. energy\, rhythm\, creativity and of course…a serious dose of unadulterated funk.\nThe Purple Ones tap into that soulful artistry like none other. \nThe Purple Ones is a labor of love that was born in 2012 when Bay Area based bandleader and founder\, Morty Okin (“The New Morty Show”\, co-founder of the Michael Jackson tribute “Foreverland” and Neil Diamond tribute “Super Diamond”\,)\ndecided to focus all of his energy on building the greatest Prince homage on the planet. \nThe Purple Ones have been selling out concert venues since their inception\, growing a fan base over the years that includes long time Prince devotees and newbies that are just discovering the icon. Recently\, Brown Mark and Matt “Doctor” Fink from The Revolution performed with TPO onstage and is not uncommon for the band to be joined on stage by “Honorary Purple Ones” like celebrity “Super Fan\,” comedienne Margaret Cho and members of the artist’s extended musical family\, including renowned percussionist (and brother of Sheila E\,) Juan Escovedo who toured the world with Prince in the 80’s. \nThe Purple Ones’ Musical Director is Prince’s former Musical Director\, bassist/guitarist and co-founder of Prince’s “New Power Generation\,” Levi Seacer Jr. Levi was with Prince for many years and is the only Prince band member to have played multiple instruments. \nLater\, collaborating with Prince as a songwriter and Co-Producer on his projects. Now the lead guitarist and Musical Director of The Purple Ones\, Seacer is determined to continue the musical legacy of his late friend and former band mate. He says one of the biggest keys to the authenticity is the ‘controlled chaos” that existed in Prince’s world that allowed for extreme creativity\, “With Prince\,” Levi says\, “you tried everything. That’s the biggest thing I learned from him over all those years. If it doesn’t work you can always take it out\, but if it does work…there’s no limit.”
URL:https://uptownnightclub.com/event/purple-ones-halloween-crystal-ball-joker-edition/
LOCATION:The Uptown Nightclub\, 1928 Telegraph Ave \, Oakland\, CA\, 94612\, United States
CATEGORIES:80s music,Concerts,Halloween,Live Performance
ATTACH;FMTTYPE=image/png:https://uptownnightclub.com/wp-content/uploads/2019/09/Screen-Shot-2019-09-17-at-11.56.45-PM.png
END:VEVENT
BEGIN:VEVENT
DTSTART;TZID=America/Los_Angeles:20191026T210000
DTEND;TZID=America/Los_Angeles:20191027T013000
DTSTAMP:20260419T143930
CREATED:20190903T044832Z
LAST-MODIFIED:20190904T002001Z
UID:4819-1572123600-1572139800@uptownnightclub.com
SUMMARY:Uptown Cabaret Halloween Bash
DESCRIPTION:Saturday\, October 26 \nHubba Hubba Revue Presents:\nUptown Cabaret Halloween Bash! \n$15 Advance | $20 At the Door | $25 Seated \nTICKETS \nFACEBOOK RSVP \nBEWITCHING BURLESQUE BEAUTIES\, live music\, and gorgeous ghouls galore! Hubba Hubba Revue\, and musical guests\, Sinister Twist\, heat up your Halloween with a Saturday night soiree of supernatural striptease! Plus a CASH-PRIZE costume contest! \nBe tantalized and terrorized by: \nHarlow Quinzel (Portland\, OR)\nDresden Abstruse (Portland\, OR)\nDorian Dietrich & Clara Bodacious\nOphelia Couer de Noir\nMone’t Ha-Sidi\nSzandora LaVey\nGatita Negra\nDem Foxie Femmes\nFrankie Fictitious\nPixie Vanille\nSweet Belize\nNutty Boltz\nEdie Eve \nMONSTER HOP\, with live burlesque\, by musical guests\nSINISTER TWIST! \nHosted by MC Kingfish\, Alexa Von Kickinface\, and Maggie Motorboat! \nCASH PRIZE COSTUME CONTEST \nAND shakin’ the Haunted House with terrorific tunes\, DJ Limbs Akimbo! \nDoors 9pm | Show 10pm\n21+ | wheelchair accessible \nThe Uptown!\n1928 Telegraph Avenue\, Oakland\n(1 block from 19th Street BART)
URL:https://uptownnightclub.com/event/uptown-cabaret-halloween-bash/
LOCATION:The Uptown Nightclub\, 1928 Telegraph Ave \, Oakland\, CA\, 94612\, United States
CATEGORIES:BURLESQUE,Goth,Halloween
ATTACH;FMTTYPE=image/png:https://uptownnightclub.com/wp-content/uploads/2019/09/Screen-Shot-2019-09-02-at-9.25.27-PM.png
END:VEVENT
BEGIN:VEVENT
DTSTART;TZID=America/Los_Angeles:20191027T190000
DTEND;TZID=America/Los_Angeles:20191027T230000
DTSTAMP:20260419T143930
CREATED:20190921T191644Z
LAST-MODIFIED:20190921T193347Z
UID:4893-1572202800-1572217200@uptownnightclub.com
SUMMARY:The Red Couch Podcast\, with Propaganda and Dr. Alma
DESCRIPTION:Food For The Hungry and The Red Couch Podcast presents \nThe Hard To Love Tour \nLive podcast recording featuring Propaganda & Dr. Alma. \nInterview with Greg Lutze\, CXO and C0-Founder of VSCO cam \nAnd Special Guest City James \n— \n21+ with valid ID \nThe Uptown is located just around the corner from the 19th Street BART Station and is wheelchair accessible
URL:https://uptownnightclub.com/event/red-couch-podcast-wpropaganda-dr-alma/
LOCATION:The Uptown Nightclub\, 1928 Telegraph Ave \, Oakland\, CA\, 94612\, United States
ATTACH;FMTTYPE=image/png:https://uptownnightclub.com/wp-content/uploads/2019/09/Screen-Shot-2019-09-21-at-12.15.07-PM.png
END:VEVENT
BEGIN:VEVENT
DTSTART;TZID=America/Los_Angeles:20191031T200000
DTEND;TZID=America/Los_Angeles:20191031T235900
DTSTAMP:20260419T143930
CREATED:20190921T190419Z
LAST-MODIFIED:20191029T210333Z
UID:4889-1572552000-1572566340@uptownnightclub.com
SUMMARY:Washed Up: Extra Marching Band\, Oinga Boinga\, Mala Grena
DESCRIPTION:Thursday\, October 31 \nExtra Marching Band presents Washed Up with: \nExtra Marching Band \nOinga Boinga \nMala Greña \nExtra Action Marching Band \n“It’s hard to convincingly argue that a background in high school marching band competitions is actually cool. At least\, it’s hard with words\, but the Extra Action Marching Band\, a mobile San Francisco Bay Area institution of brass and drums\, routinely proves its potential for unparalleled hipness in those cumbersome instruments and weird helmets that so many awkward teenagers gravitate toward for a sense of belonging. The Extra Action Marching Band features flag spinning\, varying degrees of nudity\, and\, if a recent sighting can be believed\, fake body parts grotesquely affixed to exposed skin. Cabaret flair crossed with paradiddle glee and wheezing horns — it’s John Philip Sousa’s nightmare\, the stifled band geek’s dream\, and an ensemble format typically associated with militarism and authority twisted into the service of chaos.” — East Bay Express \nOinga Boinga\nhttps://www.facebook.com/the.oinga.boinga/\nDISCLAIMER: This band may unload awesomesauce all over your eyes and up in your ears. YOU HAVE BEEN WARNED.\nWe are an all-female Oingo Boingo cover band. (Notice we didn’t say “tribute”\, you sniveling little weasels!) \nMala Greña\nhttps://www.facebook.com/MalaGrenaBand/\nMala Greña’s music fuses the bailado\, rhythm and percussion of cumbia\, chicha\, zapateo\, salsa\, and other latinoamerican rhythms with the unconventional song structures\, timings and gritty guitar lines of progressive and experimental rock music.
URL:https://uptownnightclub.com/event/extra-action-marching-band-halloween-show/
LOCATION:The Uptown Nightclub\, 1928 Telegraph Ave \, Oakland\, CA\, 94612\, United States
CATEGORIES:Concerts,Halloween,Jazz,Party
ATTACH;FMTTYPE=image/png:https://uptownnightclub.com/wp-content/uploads/2019/09/Screen-Shot-2019-09-21-at-12.01.09-PM.png
END:VEVENT
END:VCALENDAR