BEGIN:VCALENDAR
VERSION:2.0
PRODID:-//Uptown Nightclub - ECPv6.15.20//NONSGML v1.0//EN
CALSCALE:GREGORIAN
METHOD:PUBLISH
X-WR-CALNAME:Uptown Nightclub
X-ORIGINAL-URL:https://uptownnightclub.com
X-WR-CALDESC:Events for Uptown Nightclub
REFRESH-INTERVAL;VALUE=DURATION:PT1H
X-Robots-Tag:noindex
X-PUBLISHED-TTL:PT1H
BEGIN:VTIMEZONE
TZID:America/Los_Angeles
BEGIN:DAYLIGHT
TZOFFSETFROM:-0800
TZOFFSETTO:-0700
TZNAME:PDT
DTSTART:20190310T100000
END:DAYLIGHT
BEGIN:STANDARD
TZOFFSETFROM:-0700
TZOFFSETTO:-0800
TZNAME:PST
DTSTART:20191103T090000
END:STANDARD
BEGIN:DAYLIGHT
TZOFFSETFROM:-0800
TZOFFSETTO:-0700
TZNAME:PDT
DTSTART:20200308T100000
END:DAYLIGHT
BEGIN:STANDARD
TZOFFSETFROM:-0700
TZOFFSETTO:-0800
TZNAME:PST
DTSTART:20201101T090000
END:STANDARD
BEGIN:DAYLIGHT
TZOFFSETFROM:-0800
TZOFFSETTO:-0700
TZNAME:PDT
DTSTART:20210314T100000
END:DAYLIGHT
BEGIN:STANDARD
TZOFFSETFROM:-0700
TZOFFSETTO:-0800
TZNAME:PST
DTSTART:20211107T090000
END:STANDARD
END:VTIMEZONE
BEGIN:VEVENT
DTSTART;TZID=America/Los_Angeles:20200111T210000
DTEND;TZID=America/Los_Angeles:20200112T013000
DTSTAMP:20260419T093954
CREATED:20191217T212543Z
LAST-MODIFIED:20191217T212543Z
UID:5169-1578776400-1578792600@uptownnightclub.com
SUMMARY:David Bowie Dance Party
DESCRIPTION:Tickets \nFacebook RSVP \n  \nDavid Bowie Dance Party \nA celebration of all things Bowie! \nwith DJ Davey Bones (The Hanging Garden)\nand DJ Sage (Dark Sparkle)\nvisuals by unseelie \nLet’s Dance! \n– – –\nfree before 10pm with RSVP\n$7 in advance | $10 at the door\n– – –\n21+ with valid ID\nThe Uptown is located just around the corner from the 19th Street BART Station and is wheelchair accessible
URL:https://uptownnightclub.com/event/david-bowie-dance-party/
LOCATION:The Uptown Nightclub\, 1928 Telegraph Ave \, Oakland\, CA\, 94612\, United States
CATEGORIES:80s music,Dance Party,DJ
ATTACH;FMTTYPE=image/png:https://uptownnightclub.com/wp-content/uploads/2019/12/Screen-Shot-2019-12-17-at-1.24.38-PM.png
END:VEVENT
BEGIN:VEVENT
DTSTART;TZID=America/Los_Angeles:20200118T170000
DTEND;TZID=America/Los_Angeles:20200118T200000
DTSTAMP:20260419T093954
CREATED:20200113T033834Z
LAST-MODIFIED:20200113T033834Z
UID:5216-1579366800-1579377600@uptownnightclub.com
SUMMARY:1UPtown: Golden Eye
DESCRIPTION:Calling all retro gamers! Every 3rd Saturday 5-8pm we are host to 1UPtown\, a night of movies and games. \n—– \nFor January we’ve got Bond\, James Bond! In Golden Eye the film and Golden Eye 007 the game.\nGoldenEye 007 is frequently cited as one of the greatest video games of all time and the best game ever licensed from a film. \n—– \n1UPtown is presented by the Museum of Art and Digital Entertainment (The MADE)\, lewtonbus.net and the Uptown Nightclub. We’ll have themed cocktails and portion of the bar goes to benefit the museum\, so drink up! \n—– \n21+ with valid ID \nThe Uptown is located just around the corner from the 19th Street BART Station and is wheelchair accessible.
URL:https://uptownnightclub.com/event/1uptown-golden-eye/
LOCATION:The Uptown Nightclub\, 1928 Telegraph Ave \, Oakland\, CA\, 94612\, United States
ATTACH;FMTTYPE=image/jpeg:https://uptownnightclub.com/wp-content/uploads/2020/01/4bf10542401ac2b78ef67afb761ac64f.jpg
END:VEVENT
BEGIN:VEVENT
DTSTART;TZID=America/Los_Angeles:20200118T210000
DTEND;TZID=America/Los_Angeles:20200119T210000
DTSTAMP:20260419T093954
CREATED:20181009T212900Z
LAST-MODIFIED:20200108T194443Z
UID:3734-1579381200-1579467600@uptownnightclub.com
SUMMARY:Hella Gay Dance Party - New Year New Queer
DESCRIPTION:Third Saturday of each month! \n9pm \nA monthly queer dance party \nDETAILS:\nAdvance tickets online: $7\nDoors: Free until 9:30pm\, $10 after 9:30pm \nYour DJs: \nGrey Wolf // GSTAR\nhttps://soundcloud.com/gstar-1 \nDjkar Bear\nhttps://soundcloud.com/dj-kar-bear \n& \nBee\nhttps://soundcloud.com/hellagay_balthazar \n————————————————-\nAccessibility info:\n21+ with/ID \nThe main bar and dance space are wheelchair accessible\, including most of the back patio and all three bathrooms. The stage is only accessible by stairs. \n** Dancing on the stage is fine but please do not dance on the stairs. Thank you! **
URL:https://uptownnightclub.com/event/hella-gay-hellaween-2/
LOCATION:The Uptown Nightclub\, 1928 Telegraph Ave \, Oakland\, CA\, 94612\, United States
CATEGORIES:Dance Party,Hella Gay,Queer
ATTACH;FMTTYPE=image/png:https://uptownnightclub.com/wp-content/uploads/2018/02/Screen-Shot-2018-02-14-at-8.37.21-PM.png
END:VEVENT
BEGIN:VEVENT
DTSTART;TZID=America/Los_Angeles:20200123T193000
DTEND;TZID=America/Los_Angeles:20200123T233000
DTSTAMP:20260419T093954
CREATED:20200108T195150Z
LAST-MODIFIED:20200108T195206Z
UID:5206-1579807800-1579822200@uptownnightclub.com
SUMMARY:Justin Ouellet & The Uptown All-Stars\, vol. 3
DESCRIPTION:Thursday\, January 23\n7:30 PM \nJustin Ouellet & the UPTOWN All-Stars\, vol.3 \nFeaturing jazz arrangements and originals by Patrick Anseth\, Mark Clifford\, Justin Ouellet\, Dan Parenti\, and more. \nSFCV “Best of the Bay’s” Jazz Instrumentalist of the Year\, Justin Ouellet brings together some of the Bay Area’s prominent jazz\, latin and contemporary musicians for the 3rd installment of The UPTOWN ALL-STARS. Come on out to hear original tunes and arrangements of jazz standards by Dan Parenti\, Marlon Aldana\, Patrick Anseth\, and Justin Ouellet. \nLearn more about Justin at justinouellet.com or take a listen to his debut album Episodes of an Aquarius\, out now on all digital platforms for purchase & streaming. \n$15 advance / $20 at the door\n21+ with valid ID / wheelchair accessible
URL:https://uptownnightclub.com/event/justin-oullet-the-uptown-all-stars-vol-3/
LOCATION:The Uptown Nightclub\, 1928 Telegraph Ave \, Oakland\, CA\, 94612\, United States
CATEGORIES:Jazz
ATTACH;FMTTYPE=image/jpeg:https://uptownnightclub.com/wp-content/uploads/2020/01/ouelette.jpeg
END:VEVENT
BEGIN:VEVENT
DTSTART;TZID=America/Los_Angeles:20200124T170000
DTEND;TZID=America/Los_Angeles:20200124T233000
DTSTAMP:20260419T093954
CREATED:20171207T220911Z
LAST-MODIFIED:20200120T094012Z
UID:2757-1579885200-1579908600@uptownnightclub.com
SUMMARY:Closed for Private Event
DESCRIPTION:Closed for a private event. To book your private event with us\, please go to Private Events
URL:https://uptownnightclub.com/event/closed-private-event-4/
LOCATION:The Uptown Nightclub\, 1928 Telegraph Ave \, Oakland\, CA\, 94612\, United States
ATTACH;FMTTYPE=image/png:https://uptownnightclub.com/wp-content/uploads/2017/11/4855868841493395081.png
END:VEVENT
BEGIN:VEVENT
DTSTART;TZID=America/Los_Angeles:20200125T210000
DTEND;TZID=America/Los_Angeles:20200126T013000
DTSTAMP:20260419T093954
CREATED:20200102T080735Z
LAST-MODIFIED:20200102T080813Z
UID:5180-1579986000-1580002200@uptownnightclub.com
SUMMARY:Katdelic\, feat Ronkat Spearman (Parliament-Funkadelic)
DESCRIPTION:“Band Leader ~ Ronkat Spearman\, major player and one of the tastiest ax grinders\, leads this band of dance floor ministering\, funkard facilitatin’\, lickiliciously devastating players!” \nShort Bio:\nKatdelic\, winner of SF Weekly’s Best of SF 2019\, is a “party-all-night” band; and a 5 piece with an infectious mix!\nThis colorful phenomenon known as Katdelic emerges from San Francisco under the visionary leadership of Ronkat Spearman.\nRonkat\, the Grammy-winning\, multi platinum songwriter\, producer\, singer and guitarist honed his craft as a member of George Clinton’s Parliament-Funkadelic.\nThe music is an electrifying hybrid of Funk\, Soul\, EDM\, Hip Hop and Rock. Their latest single TAP OUT! is being spun on multiple radio stations across the US.\n– – –\n21+ with Valid ID\nThe Uptown is located just around the corner from the 19th Street BART Station and is wheelchair accessible
URL:https://uptownnightclub.com/event/katdelic-feat-ronkat-spearman-parliament-funkadelic/
LOCATION:The Uptown Nightclub\, 1928 Telegraph Ave \, Oakland\, CA\, 94612\, United States
ATTACH;FMTTYPE=image/jpeg:https://uptownnightclub.com/wp-content/uploads/2020/01/80484642_3696754830349466_9206183697995268096_n.jpg
END:VEVENT
BEGIN:VEVENT
DTSTART;TZID=America/Los_Angeles:20200126T180000
DTEND;TZID=America/Los_Angeles:20200126T220000
DTSTAMP:20260419T093954
CREATED:20191209T051101Z
LAST-MODIFIED:20191217T213013Z
UID:5140-1580061600-1580076000@uptownnightclub.com
SUMMARY:Spencer Owen Timeshare (finale)\, Van Allen Belt\, Grex\, Full Indian
DESCRIPTION:Logistics:\nThe UPTOWN\, Oakland\, CA / 6-10pm / $10 / 21+ \nIdentities & music:\nSpencer Owen Timeshare – the final show from the Bay’s nerviest sophistipop stalwarts https://spencerowen.bandcamp.com/album/presentation\nThe Van Allen Belt – impossible to categorize\, luscious to listen to ― not your typical trippy\, psychedelic music ― traveling from Pittsburgh\, PA\nhttps://thevanallenbelt.bandcamp.com\nGrex – 10+ years of exploring the meeting point between fun\, delightfully strange art rock and the dark outer reaches of noise and free jazz\nhttps://grex.bandcamp.com\nFull Indian – the ongoing solo project of visual artist and St Tropez bandleader\, Sanjay Vora\nhttps://fullindian.bandcamp.com
URL:https://uptownnightclub.com/event/spencer-owen-timeshare-finale-van-allen-belt-grex-full-indian/
LOCATION:The Uptown Nightclub\, 1928 Telegraph Ave \, Oakland\, CA\, 94612\, United States
ATTACH;FMTTYPE=image/jpeg:https://uptownnightclub.com/wp-content/uploads/2019/12/17757159_1293686077353978_5303889384663276015_n.jpg
END:VEVENT
BEGIN:VEVENT
DTSTART;TZID=America/Los_Angeles:20200128T190000
DTEND;TZID=America/Los_Angeles:20200128T210000
DTSTAMP:20260419T093954
CREATED:20200128T215055Z
LAST-MODIFIED:20200128T215055Z
UID:5256-1580238000-1580245200@uptownnightclub.com
SUMMARY:Justin Oulett & Patrick Anseth (Free show)
DESCRIPTION:A free event with one of the finest duos in town.. what a real treat! \nAlthough specializing in jazz\, Patrick Anseth feels at home in most other groove based electric and acoustic guitar playing. He can hold down the fort as the only accompanist in any duo setting\, lead a traditional guitar trio\, or hang in a larger group without getting in the way of the piano player. He is a highly sensitive musician that completely debunks the theory that all guitar players are just loud. Many of his musician colleagues have remarked that “Patrick is the only guitar player I know that I on occasion have to tell to turn up”. \nJustin Ouellet has garnered a reputation as a fearless performer in the realms of jazz and contemporary music. In addition to cultivating an accomplished career as a classical musician on both violin and viola\, Ouellet moves effortlessly between a multitude of genres and styles such as Jazz\, R&B\, Funk\, Blues\, Hip-Hop\, Rock\, Flamenco\, and Jazz Manouche. Ouellet collaborates on violin & viola with an array of Bay Area artists. \n – – – \n21+ with valid ID \nThe Uptown is located just around the corner from the 19th Street BART Station and is wheelchair accessible
URL:https://uptownnightclub.com/event/justin-oulett-patrick-anseth-free-show/
LOCATION:The Uptown Nightclub\, 1928 Telegraph Ave \, Oakland\, CA\, 94612\, United States
CATEGORIES:Avant Garde,Jazz
ATTACH;FMTTYPE=image/jpeg:https://uptownnightclub.com/wp-content/uploads/2020/01/9FD854F2-9694-48F2-828E-28E8F6C10452.jpeg
END:VEVENT
BEGIN:VEVENT
DTSTART;TZID=America/Los_Angeles:20200130T200000
DTEND;TZID=America/Los_Angeles:20200130T235900
DTSTAMP:20260419T093954
CREATED:20200102T082210Z
LAST-MODIFIED:20200108T195749Z
UID:5183-1580414400-1580428740@uptownnightclub.com
SUMMARY:TV Heads (Album Release show)\, B. Hamilton\, Samvega
DESCRIPTION:TV Heads is a three-piece band born in the artistic crucible of the Bay Area and raised in Los Angeles on a steady diet of post-punk riffs\, dreamstate harmonies\, and electro grit. The band is composed of Sean Galloway\, Angelica Tavella\, and Vince Gutierrez\, who share duties on lead vocals\, guitars\, synths\, and drums.\nFollowing their 2016 debut EP\, “Total Fucker”\, produced by Jeff Saltzman (Department of Eagles\, The Killers\, Blondie) TVH is getting ready to release their sophomore album\, Devotional in Winter of 2019\, featuring Jessica Lankford (Miserable\, Spare Parts for Broken Hearts) on drums. \nWhat started as a bedroom project in 2010 for songwriter\, vocalist\, and guitarist Ryan Christopher Parks (whose collaborative track with Boots Riley “OYAHYTT” features heavily in Riley’s 2018 film “Sorry to Bother You.”) with the addition of Parks’ good friends Andrew Macy (Tall Grass) on bass\, and Raj Kumar Ojha on drums (Once and Future Band\, Shannon Shaw Band\, Howlin’ Rain)\, B. Hamilton has since become one of Oakland\, California’s staple Rock and Roll bands. With Parks’ moody\, atmospheric guitar riffs and lyrical ability to encapsulate entire characters and scenes within a few short minutes\, there is a decidedly driven\, cinematic feel to B. Hamilton’s sound. \nIn Samvega’s world\, music is a voyage into the subconscious. Heavy psychedelic overtures\, bellowing lyrics\, and a tendency to tip toe into the darker places of the mind form the subway of sound. As visual artists the four members have learned to gulp down society and digest it on canvas with texture and color\, as musicians their reaction to life and it’s trials moves from the slow\, the dreamy\, the melodic into a tidal wave of heavy distortion. Their aim is to create soundscapes to tantalize the mind with the complexities of existence. They’re genre unspecific. Their set can move from psychedelic instrumentation\, to doom\, to gypsy\, to blues and anywhere in between. All four members sing\, and the vocals that ride on top can be lowdown outlaw\, to punk cabaret. Regardless the singer\, their lyrics are carefully crafted and cry of the underground\, for change\, for lost love. \n– – –\n21+ with valid ID \nThe Uptown is located just around the corner from the 19th Street BART Station and is wheelchair accessible
URL:https://uptownnightclub.com/event/tv-heads-album-release-show-b-hamilton-samvega/
LOCATION:The Uptown Nightclub\, 1928 Telegraph Ave \, Oakland\, CA\, 94612\, United States
ATTACH;FMTTYPE=image/jpeg:https://uptownnightclub.com/wp-content/uploads/2020/01/81019340_3705274262830856_8587431588139106304_n.jpg
END:VEVENT
BEGIN:VEVENT
DTSTART;TZID=America/Los_Angeles:20200131T200000
DTEND;TZID=America/Los_Angeles:20200201T013000
DTSTAMP:20260419T093954
CREATED:20200113T035507Z
LAST-MODIFIED:20200129T183046Z
UID:5223-1580500800-1580520600@uptownnightclub.com
SUMMARY:Soft Notes\, Harold Ray\, Panic Attack\, +DJ Bobby Martinez
DESCRIPTION:Friday\, January 31 \n8pm \nSoft Notes\, Harold Ray\, Panic Attack\, +DJ Bobby Martinez \nA night of great music and great cider! \nThe Uptown will be hosting Blindwood Cider’s Newtown Pippin release in addition to a tap take-over with 5 of their flagship and seasonal ciders on draft. \nEnjoy a pint or two while listening to some great local music:\nHarold Ray and East Side Dynamite are an explosive rock\, roll\, and soul band. \nOakland’s premiere cover band Soft Notes covers classic favorites for your musical enjoyment. \nOr get up on stage yourself with Panic Attack\, Oakland’s finest LIVE KARAOKE band! \nalso\, DJ Bobby Martinez spinning. \n– – – \nFree with your Cider Con or Cider Week badge otherwise\, $7 in advance | $10 at the door
URL:https://uptownnightclub.com/event/soft-notes-harold-ray-panic-attack-dj-bobby-martinez/
LOCATION:The Uptown Nightclub\, 1928 Telegraph Ave \, Oakland\, CA\, 94612\, United States
ATTACH;FMTTYPE=image/jpeg:https://uptownnightclub.com/wp-content/uploads/2020/01/82223758_3739371622754453_3318417532481699840_n.jpg
END:VEVENT
END:VCALENDAR