BEGIN:VCALENDAR
VERSION:2.0
PRODID:-//Uptown Nightclub - ECPv6.15.20//NONSGML v1.0//EN
CALSCALE:GREGORIAN
METHOD:PUBLISH
X-ORIGINAL-URL:https://uptownnightclub.com
X-WR-CALDESC:Events for Uptown Nightclub
REFRESH-INTERVAL;VALUE=DURATION:PT1H
X-Robots-Tag:noindex
X-PUBLISHED-TTL:PT1H
BEGIN:VTIMEZONE
TZID:America/Los_Angeles
BEGIN:DAYLIGHT
TZOFFSETFROM:-0800
TZOFFSETTO:-0700
TZNAME:PDT
DTSTART:20190310T100000
END:DAYLIGHT
BEGIN:STANDARD
TZOFFSETFROM:-0700
TZOFFSETTO:-0800
TZNAME:PST
DTSTART:20191103T090000
END:STANDARD
BEGIN:DAYLIGHT
TZOFFSETFROM:-0800
TZOFFSETTO:-0700
TZNAME:PDT
DTSTART:20200308T100000
END:DAYLIGHT
BEGIN:STANDARD
TZOFFSETFROM:-0700
TZOFFSETTO:-0800
TZNAME:PST
DTSTART:20201101T090000
END:STANDARD
BEGIN:DAYLIGHT
TZOFFSETFROM:-0800
TZOFFSETTO:-0700
TZNAME:PDT
DTSTART:20210314T100000
END:DAYLIGHT
BEGIN:STANDARD
TZOFFSETFROM:-0700
TZOFFSETTO:-0800
TZNAME:PST
DTSTART:20211107T090000
END:STANDARD
END:VTIMEZONE
BEGIN:VEVENT
DTSTART;TZID=America/Los_Angeles:20200301T210000
DTEND;TZID=America/Los_Angeles:20200302T013000
DTSTAMP:20260419T093306
CREATED:20200118T085149Z
LAST-MODIFIED:20200321T203527Z
UID:5243-1583096400-1583112600@uptownnightclub.com
SUMMARY:CANCELED — This Party Is Killing You: A Night of All Robyn Everything
DESCRIPTION:Swedish pop sensation Robyn is undoubtedly the brightest and most phenomenal pop star of recent memory\, so much so that Rolling Stone crowned her crying-while-dancing hit “Dancing On My Own” the greatest song of the decade. Her 2018 album Honey brought a deep and pulsing sensuality to her dance floor confections\, and in the film released to accompany the album’s lead single\, “Missing U”\, Robyn shows up to DJ a dance party in Brooklyn dedicated to her music. That party is This Party Is Killing You: A Night of All Robyn Everything\, aka The Robyn Party\, and\, fittingly\, it’s the greatest pop music dance party of the decade. \nStarted by Russ\, Marley and Choyce\, three New York-based friends who DJ and perform as ADVENTURE[s]\, This Party Is Killing You! is the longest-running and original Robyn-themed dance party\, and over the past decade the night has grown from one sweaty and sold-out club to the next\, nationally and internationally. As infectious as the chorus of a Robyn song\, ardent fans come to The Robyn Party to sing along\, cry\, dance\, and make out–sometimes all at the same time. \nADVENTURE[s] plays all your favorite Robyn hits\, b-sides\, deep cuts\, remixes and some rarities and exclusives\, and also pepper in pop classics and dancefloor fillers by faves like Carly Rae Jepsen\, Madonna\, Lizzo and more. \nAs more than one party-goer has been heard to exclaim\, “This Party Is Killing You! saved my life!” \n– – – \n21+ with valid ID \nThe Uptown is located just around the corner from the 19th Street BART Station and is wheelchair accessible
URL:https://uptownnightclub.com/event/this-party-is-killing-you-a-night-of-all-robyn-everything/
LOCATION:The Uptown Nightclub\, 1928 Telegraph Ave \, Oakland\, CA\, 94612\, United States
ATTACH;FMTTYPE=image/jpeg:https://uptownnightclub.com/wp-content/uploads/2020/01/80226E61-C993-4379-B001-DE6DFFE53374.jpeg
END:VEVENT
BEGIN:VEVENT
DTSTART;TZID=America/Los_Angeles:20200303T200000
DTEND;TZID=America/Los_Angeles:20200303T210000
DTSTAMP:20260419T093306
CREATED:20181012T041632Z
LAST-MODIFIED:20200407T205229Z
UID:3752-1583265600-1583269200@uptownnightclub.com
SUMMARY:POSTPONED ** Lucky Devils Band - Oakland Showcase
DESCRIPTION:Lucky Devils Band\, winner of The Knot Magazine’s “Best of Weddings 2018.” \nA free showcase and a great opportunity to see the band perform before booking for your event! They play a variety of musical styles from Top 40 to classics\, and everything in between! Songs performed will be a mixture of high energy dance music and slower tunes – always a lot of fun! \nLucky Devils Band’s showcase is relaxed\, giving you the chance to speak with the musicians after the show and ask any questions you may have. \nGrab a friend or fiancé and come out to enjoy some live music! \n 
URL:https://uptownnightclub.com/event/lucky-devils-band/
LOCATION:The Uptown Nightclub\, 1928 Telegraph Ave \, Oakland\, CA\, 94612\, United States
ATTACH;FMTTYPE=image/jpeg:https://uptownnightclub.com/wp-content/uploads/2018/10/43569428_1930948406994620_4883581147893727232_n.jpg
END:VEVENT
BEGIN:VEVENT
DTSTART;TZID=America/Los_Angeles:20200313T213000
DTEND;TZID=America/Los_Angeles:20200314T020000
DTSTAMP:20260419T093306
CREATED:20200129T184857Z
LAST-MODIFIED:20200314T065045Z
UID:5271-1584135000-1584151200@uptownnightclub.com
SUMMARY:CANCELED — Hella Emo SF with guest Demon In Me
DESCRIPTION:(((TICKETS))) \nWe couldn’t wait for the summer at the Warped Tour\, our bangs were swooped\, Hot Topic was THE place to shop\, the most drama in our lives was caused by our Top 8 on MySpace\, and eyeliner was a necessity.\nWell we want to welcome those better times back! It is the RAWRing ’20s\, My Chemical Romance has returned\, and it is time to let your Emo Flag Fly!\nPull out your favorite pair of skinny jeans\, flat iron your bangs\, lace up your shoes\, and Dance\, Dance the night away with us! \nHella Emo San Francisco is crossing the Western Span of the Bay Bridge for a special night in Oakland at The Uptown! We are turning ONE YEAR OLD and we can’t wait to celebrate with all you on the biggest dance floor in our history! \nFor the first time ever we will be joined by a live band\, **SPECIAL GUEST** for the evening: Demon In Me! \nJoin us for a night of all the best Emo and Pop Punk Anthems by My Chemical Romance\, Taking Back Sunday\, Panic! at the Disco\, Fall Out Boy\, Dance Gavin Dance\, Underoath\, Sleeping with Sirens\, 3oh!3\, Paramore\, The Used\, Blink-182\, Green Day\, Avril Lavigne\, YellowCard\, All Time Low\, All American Rejects\, Mayday Parade\, Black Veil Brides\, Motion City Soundtrack\, Waterparks\, A Day to Remember\, Say Anything\, Hawthorne Heights\, AFI\, State Champs\, As It Is\, Escape the Fate\, We the Kings\, Sum 41\, Silverstein\, Set It Off\, YUNGBLUD\, Story so Far\, and so much more! \nWe’re Not Okay\,\nWe’re HELLA EMO SAN FRANCISCO\,\nand We Look Forward to Raging with you! \n9:30pm – 2am at The Uptown!\n21+ w/ID\n$15 advance tickets/$18 at the door\nThe Uptown is located at 1928 Telegraph Ave\, Oakland\, CA 94612
URL:https://uptownnightclub.com/event/hella-emo-sf-with-guest-demon-in-me/
LOCATION:The Uptown Nightclub\, 1928 Telegraph Ave \, Oakland\, CA\, 94612\, United States
ATTACH;FMTTYPE=image/jpeg:https://uptownnightclub.com/wp-content/uploads/2020/01/C2886CE0-5EBA-4419-9164-FB6AE308591C.jpeg
END:VEVENT
BEGIN:VEVENT
DTSTART;TZID=America/Los_Angeles:20200314T200000
DTEND;TZID=America/Los_Angeles:20200315T010000
DTSTAMP:20260419T093306
CREATED:20200129T182002Z
LAST-MODIFIED:20200314T172049Z
UID:5266-1584216000-1584234000@uptownnightclub.com
SUMMARY:POSTPONED to 8/16 — Punk Black Cali Fest 2
DESCRIPTION:Saturday\, March 14 \n5pm \nPUNK BLACK is a monthly independent rock event/organization in Atlanta\, Georgia that features People of Color in the rock and art. It includes bands\, a DJ\, and local art vendors. This will be the second time Punk Black visits Oakland. Their first Bay Area event was in The Uptown last year\, too. \nLine Up: \nSaliva Tribe\nCasino Kid\nPunk Funk Mob\nFatty Cakes and the Puff Pastries\nSquid Ink\nBastet\nThe Tissues\nThe Quart Of Blood Technique
URL:https://uptownnightclub.com/event/punk-black-cali-fest-edition-2/
LOCATION:The Uptown Nightclub\, 1928 Telegraph Ave \, Oakland\, CA\, 94612\, United States
CATEGORIES:Art,DJ,Rock n roll
ATTACH;FMTTYPE=image/jpeg:https://uptownnightclub.com/wp-content/uploads/2020/01/63C24D55-B6FC-4601-BE19-B70435050EA2.jpeg
END:VEVENT
BEGIN:VEVENT
DTSTART;VALUE=DATE:20200315
DTEND;VALUE=DATE:20200903
DTSTAMP:20260419T093306
CREATED:20200316T004750Z
LAST-MODIFIED:20200905T073452Z
UID:5415-1584244800-1599019199@uptownnightclub.com
SUMMARY:The Uptown is temporarily closed due to the COVID-19 crisis
DESCRIPTION:On March 15\, California Governor Gavin Newsom requested all California bars\, music venues\, and nightclubs close immediately and indefinitely to help curb the rampant spread of COVID-19. California is taking these dramatic steps to slow the rate of infection and reduce the number of deaths by giving doctors and hospitals a chance to treat the most serious patients without becoming overwhelmed by a tsunami of patients at once. Like you\, we are saddened by the events surrounding us at the moment\, but this apparent setback will help benefit the safety and health of our community at large. Thank you for your continued patience and support. We look forward to reopening when the time is right. Until then please shelter at home\, practice social distancing\, and wash those hands! \nOur GOFUNDME is here MAKE DONATION
URL:https://uptownnightclub.com/event/the-uptown-is-temporarily-closed-due-to-the-covid-19-crisis/
LOCATION:CA
END:VEVENT
BEGIN:VEVENT
DTSTART;TZID=America/Los_Angeles:20200326T200000
DTEND;TZID=America/Los_Angeles:20200326T233000
DTSTAMP:20260419T093306
CREATED:20200117T024730Z
LAST-MODIFIED:20200321T203634Z
UID:5240-1585252800-1585265400@uptownnightclub.com
SUMMARY:POSTPONED ** Everyone Is Dirty\, The Helltones\, North By North\, The Y Axes
DESCRIPTION:Everyone Is Dirty is a new-wave post-punk rock band that hails from Oakland\, CA. Known for their manic live sets\, this band is captivating and futuristic\, with a strange electricity flowing through their sound. \nConceived in the waning months of 2015 by high school friends and bandmates Darwin Siegaldoud and Paul Bowman\, The Helltones have since snowballed into a six piece machine bent on getting your hips swaying and your toes tapping. The sound has matured with the addition of new members\, and now walks the line between the sultry and the savage with an uncanny grace. \nFormed in 2012\, North by North is the sweat-fueled rock & roll fever-dream of two childhood friends from the south side of Chicago. Their music was forged through years of teen angst\, twenty-something alienation and a profound belief that rock music can be genuinely clever and inventive. It’s a sound glued together by melodic hooks\, soaring vocals\, crushing guitar\, bombastic drums and the kind of untethered energy that has won crowds over hundreds of shows and dozens of festivals across three countries. \nThe Y Axes are a San Francisco-based indie outfit who play a unique blend of dreamy\, synth-glossed pop and rhythmically muscular rock. Having initially formed as a recording project by vocalist Alexi Rose Belchere and guitarist Devin Nelson\, their lineup completed by bassist Jack Sundquist and drummer Paul Conroy\, The Y Axes collaborate to create energetic and hard-hitting pop with intricate instrumentations and ethereal vocal melodies that can stick in your mind for weeks. \n – – – \n21+ with valid ID \nThe Uptown is located just around the corner from the 19th Street BART Station and is wheelchair accessible
URL:https://uptownnightclub.com/event/everyone-is-dirty-the-helltones-north-by-north-the-y-axes/
LOCATION:The Uptown Nightclub\, 1928 Telegraph Ave \, Oakland\, CA\, 94612\, United States
CATEGORIES:Indie,Live Performance,Psych Rock,Rock n roll
ATTACH;FMTTYPE=image/jpeg:https://uptownnightclub.com/wp-content/uploads/2020/01/83322247_3754101474614801_1776752353160986624_n.jpg
END:VEVENT
BEGIN:VEVENT
DTSTART;TZID=America/Los_Angeles:20200327T210000
DTEND;TZID=America/Los_Angeles:20200328T010000
DTSTAMP:20260419T093306
CREATED:20200302T043110Z
LAST-MODIFIED:20200321T203724Z
UID:5363-1585342800-1585357200@uptownnightclub.com
SUMMARY:POSTPONED ** Return of the Silver & Black Soul Club Dance Party
DESCRIPTION:Silver & Black is back to bring you more of the best vintage soul sounds around! Resident DJs Rodrigo and Matt and special guests will be spinning Motown\, Stax\, Northern soul\, Funk\, R&B and Latin soul hits and rarities all night. Let’s catch a groove! \n21+ \nFree Entry \n 
URL:https://uptownnightclub.com/event/return-of-the-silver-black-soul-club-dance-party/
LOCATION:The Uptown Nightclub\, 1928 Telegraph Ave \, Oakland\, CA\, 94612\, United States
CATEGORIES:Dance Party,DJ,Oldies,Soul
ATTACH;FMTTYPE=image/png:https://uptownnightclub.com/wp-content/uploads/2020/03/12742380_713802025423723_7572616205094556252_n.png
END:VEVENT
BEGIN:VEVENT
DTSTART;TZID=America/Los_Angeles:20200328T200000
DTEND;TZID=America/Los_Angeles:20200329T013000
DTSTAMP:20260419T093306
CREATED:20200302T044235Z
LAST-MODIFIED:20200321T203831Z
UID:5367-1585425600-1585445400@uptownnightclub.com
SUMMARY:POSTPONED ** Smart Bomb Presents 7 Year Anniversary
DESCRIPTION:((( TICKETS ))) \n  \nSmart Bomb Presents \nFeaturing Swarvy\, Astu\, Shungu\, Lil Ze and Sounds of Paradise w/ special-surprise guest sets!\nBe sure to also support pop-up’s from Smart Bomb\, Nosei & Friends\, Cherri & Cutty Buddy\, and visuals by FLATSPOT_ \nflyer by: @thelowkeytheory \n$10 pre-sale\, $15 door ; 8pm-1:30am
URL:https://uptownnightclub.com/event/smart-bomb-presents-7th-anniversary/
LOCATION:The Uptown Nightclub\, 1928 Telegraph Ave \, Oakland\, CA\, 94612\, United States
ATTACH;FMTTYPE=image/jpeg:https://uptownnightclub.com/wp-content/uploads/2020/03/46101514_1716305561807902_8658472009367289856_n.jpg
END:VEVENT
BEGIN:VEVENT
DTSTART;TZID=America/Los_Angeles:20200330T190000
DTEND;TZID=America/Los_Angeles:20200330T220000
DTSTAMP:20260419T093306
CREATED:20200314T071201Z
LAST-MODIFIED:20200321T203913Z
UID:5406-1585594800-1585605600@uptownnightclub.com
SUMMARY:POSTPONED ** Nerd Nite
DESCRIPTION:Per Alameda County Public Health Department’s COVID19 guidance\, we have cancelled our March 30th event.\nEarly ticket buyers have been both refunded and comped a ticket to our April 27th event (assuming the virus has abated). We look forward to hosting the very cool talks by Hillery Shay\, Neem Patel\, and Julia DeMarines at future events.\n\nWe encourage you to:\n\nPatronize The Uptown’s bar\, since we could all probably use a drink. Seriously. The independent venues that we all love in Oakland are getting hit hard\, so they will need your support to make it through this\nEnjoy Miss Arepita’s future pop-ups\nCatch DJ Rubberband Girl on KALX [90.7FM\, Fri 6-9PM] and at Forbidden Island\nCheckout the virtual resources the Oakland Public Library has available\nLearn more about COVID19 and why events are being cancelled\nCatch-up on Nerd Nite videos at home [beer still encouraged]
URL:https://uptownnightclub.com/event/event-canceled-nerd-nite/
LOCATION:The Uptown Nightclub\, 1928 Telegraph Ave \, Oakland\, CA\, 94612\, United States
ATTACH;FMTTYPE=image/jpeg:https://uptownnightclub.com/wp-content/uploads/2020/03/90700407-6A6C-4E5A-87C2-B476DF43B76E.jpeg
END:VEVENT
END:VCALENDAR